BEGIN:VCALENDAR
VERSION:2.0
PRODID:-//ChamberMaster//Event Calendar 2.0//EN
METHOD:PUBLISH
X-PUBLISHED-TTL:P3D
REFRESH-INTERVAL:P3D
CALSCALE:GREGORIAN
BEGIN:VEVENT
DTSTART:20160814T170100Z
DTEND:20160814T120100Z
X-MICROSOFT-CDO-ALLDAYEVENT:FALSE
SUMMARY:"Layers": New Work by Mark Eanes
DESCRIPTION:"LAYERS" / NEW WORK BY MARK EANESSEPTEMBER 1 â€“ OCTOBER 2FIRST FRIDAY RECEPTION SEPTEMBER 2\, 5-8PMWine poured by Handley CellarsÂ In September Partners Gallery is proud to be showing the latest work of accomplished artist and well loved teacher Mark Eanes.Â In 2013 Eanes spent three months traveling throughout France\, Croatia\, Italy and Spain - shooting over 3\,000 photographs of time worn walls\, portals and alleyways richly textured with paint\, posters\, graffiti and scrawls.Â The impact of Markâ€™s journey is evident in his artistic process. Eanesâ€™ mixed media collages and paintings are a product of many layers of charcoal\, paint\, paper and glue. Beneath the surface one can see traces of a long process that is very physical\, even restless\, in its nature\; drawing\, painting\, sanding\, scraping\, scrawling\, tearing\, building up and tearing down.Â Partners Gallery is located at 335N. Franklin Street in Fort Bragg and is open Wednesday through Monday 10 am to 5 pm and Sundays 10 am to 4 pm.
X-ALT-DESC;FMTTYPE=text/html:<p>"LAYERS" / NEW WORK BY MARK EANES</p><p>SEPTEMBER 1 â€“ OCTOBER 2</p><p>FIRST FRIDAY RECEPTION SEPTEMBER 2\, 5-8PM</p><p>Wine poured by Handley Cellars</p><p>Â </p><p>In September Partners Gallery is proud to be showing the latest work of accomplished artist and well loved teacher Mark Eanes.</p><p>Â </p><p>In 2013 Eanes spent three months traveling throughout France\, Croatia\, Italy and Spain - shooting over 3\,000 photographs of time worn walls\, portals and alleyways richly textured with paint\, posters\, graffiti and scrawls.</p><p>Â </p><p>The impact of Markâ€™s journey is evident in his artistic process. Eanesâ€™ mixed media collages and paintings are a product of many layers of charcoal\, paint\, paper and glue. Beneath the surface one can see traces of a long process that is very physical\, even restless\, in its nature\; drawing\, painting\, sanding\, scraping\, scrawling\, tearing\, building up and tearing down.</p><p>Â </p><p>Partners Gallery is located at 335N. Franklin Street in Fort Bragg and is open Wednesday through Monday 10 am to 5 pm and Sundays 10 am to 4 pm.</p>
LOCATION:Partners Gallery Fort Bragg
UID:e.2883.996
SEQUENCE:3
DTSTAMP:20260424T192828Z
URL:http://mendocinocoast.smartcms.site/events/details/layers-new-work-by-mark-eanes-08-14-2016-996
END:VEVENT

END:VCALENDAR
