BEGIN:VCALENDAR
VERSION:2.0
PRODID:-//ChamberMaster//Event Calendar 2.0//EN
METHOD:PUBLISH
X-PUBLISHED-TTL:P3D
REFRESH-INTERVAL:P3D
CALSCALE:GREGORIAN
BEGIN:VEVENT
DTSTART:20171007T180000Z
DTEND:20171007T220000Z
X-MICROSOFT-CDO-ALLDAYEVENT:FALSE
SUMMARY:Laundry-to-Landscape Greywater free workshop in Ft Bragg
DESCRIPTION:The City of Ft Bragg's Home Energy Link Program (HELP)\, with the assistance of local contractor Ian Fox\, is conducting a FREE 4 hour Laundry-to-Landscape Greywater training workshop at 205 Morrow Street\, Ft Bragg on Saturday October 7\, 2017 starting at 11:00am. For reservations\, contact HELP at 119 N Franklin Street\, M-F\, 9-5\, phone 707 962-3070\, email HELP@redinet.org. A Laundry-to-Landscape Greywater system is one way to conserve precious potable water by reusing laundry water to irrigate decorative outdoor plants and even fruit trees.
X-ALT-DESC;FMTTYPE=text/html:The City of Ft Bragg&rsquo\;s Home Energy Link Program (HELP)\, with the assistance of local contractor Ian Fox\, is conducting a FREE 4 hour Laundry-to-Landscape Greywater training workshop at 205 Morrow Street\, Ft Bragg on Saturday October 7\, 2017 starting at 11:00am. For reservations\, contact HELP at 119 N Franklin Street\, M-F\, 9-5\, phone 707 962-3070\, email HELP@redinet.org. A Laundry-to-Landscape Greywater system is one way to conserve precious potable water by reusing laundry water to irrigate decorative outdoor plants and even fruit trees.
LOCATION:205 Morrow Street\, Ft Bragg
UID:e.2883.4431
SEQUENCE:3
DTSTAMP:20260423T201248Z
URL:http://mendocinocoast.smartcms.site/events/details/laundry-to-landscape-greywater-free-workshop-in-ft-bragg-4431
END:VEVENT

END:VCALENDAR
