BEGIN:VCALENDAR
VERSION:2.0
PRODID:-//ChamberMaster//Event Calendar 2.0//EN
METHOD:PUBLISH
X-PUBLISHED-TTL:P3D
REFRESH-INTERVAL:P3D
CALSCALE:GREGORIAN
BEGIN:VEVENT
DTSTART:20190801T180000Z
DTEND:20190912T230000Z
X-MICROSOFT-CDO-ALLDAYEVENT:FALSE
SUMMARY:Larry Fuente Exhibit: "New World Hoarder"
DESCRIPTION:The Mendocino Art Center presents Mendocino icon Larry Fuente's first solo exhibition at the Art Center since 1980. His assemblage works   adorned with beads\, rhinestones\, shards of pottery\, buttons\, statuettes\, religious icons\, symbolic features and other ornamental objects   include refrigerators\, cows\, guitars\, horses\, motorcycles\, ducks\, mannequins and cars\, including his "Mad Cad\," which will be on show August 1 through September 3. Larry will host a free opening reception\, Saturday\, August 3\, 5pm-8pm. Also on exhibit are Karl Dempwolf's plein air paintings in "Listen to Gauguin\, do not copy nature too closely\, art is an abstraction\," August 1 through September 1. Free Second Saturday Gallery Reception\, August 10\, 5pm to 8pm. Enjoy snacks and wine\, and meet the exhibiting artists.
X-ALT-DESC;FMTTYPE=text/html:The Mendocino Art Center presents Mendocino icon Larry Fuente&rsquo\;s first solo exhibition at the Art Center since 1980. His assemblage works &ndash\; adorned with beads\, rhinestones\, shards of pottery\, buttons\, statuettes\, religious icons\, symbolic features and other ornamental objects &ndash\; include refrigerators\, cows\, guitars\, horses\, motorcycles\, ducks\, mannequins and cars\, including his &ldquo\;Mad Cad\,&rdquo\; which will be on show August 1 through September 3. Larry will host a free opening reception\, Saturday\, August 3\, 5pm-8pm. Also on exhibit are Karl Dempwolf&rsquo\;s plein air paintings in &ldquo\;Listen to Gauguin\, do not copy nature too closely\, art is an abstraction\,&rdquo\; August 1 through September 1. Free Second Saturday Gallery Reception\, August 10\, 5pm to 8pm. Enjoy snacks and wine\, and meet the exhibiting artists.
LOCATION:Mendocino Art Center 45200 Little Lake Street at Kasten Street Mendocino
UID:e.2883.11907
SEQUENCE:3
DTSTAMP:20260422T043633Z
URL:http://mendocinocoast.smartcms.site/events/details/larry-fuente-exhibit-new-world-hoarder-11907
END:VEVENT

END:VCALENDAR
