BEGIN:VCALENDAR
VERSION:2.0
PRODID:-//ChamberMaster//Event Calendar 2.0//EN
METHOD:PUBLISH
X-PUBLISHED-TTL:P3D
REFRESH-INTERVAL:P3D
CALSCALE:GREGORIAN
BEGIN:VEVENT
DTSTART:20180603T020000Z
DTEND:20180603T210000Z
X-MICROSOFT-CDO-ALLDAYEVENT:FALSE
SUMMARY:La Boutique Fantasque & Dance Classics
DESCRIPTION:Mendocino Ballet presents "La Boutique Fantasque" & Dance Classics. Come and watch classically trained dancers from inland and coastal Mendocino County take the stage in this family friendly event!
X-ALT-DESC;FMTTYPE=text/html:Mendocino Ballet presents &quot\;La Boutique Fantasque&quot\; &amp\; Dance Classics. Come and watch classically trained dancers from inland and coastal Mendocino County take the stage in this family friendly event!
LOCATION:Mendocino College Center Theatre
UID:e.2883.8774
SEQUENCE:3
DTSTAMP:20260423T055846Z
URL:http://mendocinocoast.smartcms.site/events/details/la-boutique-fantasque-dance-classics-8774
END:VEVENT

END:VCALENDAR
