BEGIN:VCALENDAR
VERSION:2.0
PRODID:-//ChamberMaster//Event Calendar 2.0//EN
METHOD:PUBLISH
X-PUBLISHED-TTL:P3D
REFRESH-INTERVAL:P3D
CALSCALE:GREGORIAN
BEGIN:VEVENT
DTSTART:20180811T210000Z
DTEND:20180811T230000Z
X-MICROSOFT-CDO-ALLDAYEVENT:FALSE
SUMMARY:Kids Talent Show
DESCRIPTION:Hey kids! Can you sing\, dance\, tell jokes\, recite poetry\, hula hoop or play an instrument? Show us what you've got at the first Fort Bragg Library's "Kids Talent Show"! Open to ages 0-12. Sign up at the library for a fun filled afternoon and get ready to shine!
X-ALT-DESC;FMTTYPE=text/html:Hey kids! Can you sing\, dance\, tell jokes\, recite poetry\, hula hoop or play an instrument? Show us what you&#39\;ve got at the first Fort Bragg Library&#39\;s &quot\;Kids Talent Show&quot\;! Open to ages 0-12. Sign up at the library for a fun filled afternoon and get ready to shine!
LOCATION:Fort Bragg Library 499 E Laurel St Fort Bragg
UID:e.2883.9144
SEQUENCE:3
DTSTAMP:20260423T022905Z
URL:http://mendocinocoast.smartcms.site/events/details/kids-talent-show-9144
END:VEVENT

END:VCALENDAR
