BEGIN:VCALENDAR
VERSION:2.0
PRODID:-//ChamberMaster//Event Calendar 2.0//EN
METHOD:PUBLISH
X-PUBLISHED-TTL:P3D
REFRESH-INTERVAL:P3D
CALSCALE:GREGORIAN
BEGIN:VEVENT
DTSTART:20180624T190000Z
DTEND:20180625T000000Z
X-MICROSOFT-CDO-ALLDAYEVENT:FALSE
SUMMARY:KERMES - Mexican Food Sale and Fiesta
DESCRIPTION:****Mexican Food Sale & Fun FIESTA **COME JOIN THE FUN! THIS SUNDAY JUNE 24\, 2018** AT OLGC Catholic Church Grounds located at 255. N Harold Street\, Fort Bragg CA Family Event ???? Everyone is welcome!
X-ALT-DESC;FMTTYPE=text/html:****Mexican Food Sale &amp\; Fun FIESTA **COME JOIN THE FUN! THIS SUNDAY JUNE 24\, 2018** AT OLGC Catholic Church Grounds located at 255. N Harold Street\, Fort Bragg CA Family Event ???? Everyone is welcome!
LOCATION:255 E. Harold Street (corner of Maple Street)\, Fort Bragg *Our Lady of Good Council Catholic Church Grounds
UID:e.2883.9044
SEQUENCE:3
DTSTAMP:20260423T073808Z
URL:http://mendocinocoast.smartcms.site/events/details/kermes-mexican-food-sale-and-fiesta-9044
END:VEVENT

END:VCALENDAR
