BEGIN:VCALENDAR
VERSION:2.0
PRODID:-//ChamberMaster//Event Calendar 2.0//EN
METHOD:PUBLISH
X-PUBLISHED-TTL:P3D
REFRESH-INTERVAL:P3D
CALSCALE:GREGORIAN
BEGIN:VEVENT
DTSTART:20190525T170000Z
DTEND:20190525T210000Z
X-MICROSOFT-CDO-ALLDAYEVENT:FALSE
SUMMARY:Kelley House Historic Book Sale
DESCRIPTION:Kelley House Historic Book Sale with Katy Tahja 10AM - 2PM
X-ALT-DESC;FMTTYPE=text/html:Kelley House Historic Book Sale with Katy Tahja 10AM - 2PM
LOCATION:Kelley House Museum 45007 Albion Street Mendocino\, CA 95960
UID:e.2883.11455
SEQUENCE:3
DTSTAMP:20260422T111541Z
URL:http://mendocinocoast.smartcms.site/events/details/kelley-house-historic-book-sale-11455
END:VEVENT

END:VCALENDAR
