BEGIN:VCALENDAR
VERSION:2.0
PRODID:-//ChamberMaster//Event Calendar 2.0//EN
METHOD:PUBLISH
X-PUBLISHED-TTL:P3D
REFRESH-INTERVAL:P3D
CALSCALE:GREGORIAN
BEGIN:VEVENT
DTSTART:20190519T163000Z
DTEND:20190519T190000Z
X-MICROSOFT-CDO-ALLDAYEVENT:FALSE
SUMMARY:Kayak Safety Clinic
DESCRIPTION:Summer Kayak Season is Coming - Make sure that you and your kayak are ready for summer paddling season with this Kayak Safety Skills Clinic. 10AM- NOON - ON-WATER KAYAK SAFETY TRAINING - 2 hour on water kayak safety clinic includes capsize prevention techniques and capsize recover. $20/person with their own kayak and equipment (must wear a wetsuit). $40/person includes kayak and wetsuit rental. All proceeds will be donated to the Mendocino County Water Safety Coalition. NOON - FREE KAYAK SAFETY DEMONSTRATION - Liquid Fusion Kayaking will demonstrate safety skills including how to get back into and onto a capsized kayak. ALL TYPES OF KAYAKS ARE ENCOURAGED FOR THIS EVENT. BRING YOURS OR RENT ONE FROM US.
X-ALT-DESC;FMTTYPE=text/html:Summer Kayak Season is Coming - Make sure that you and your kayak are ready for summer paddling season with this Kayak Safety Skills Clinic. 10AM- NOON - ON-WATER KAYAK SAFETY TRAINING - 2 hour on water kayak safety clinic includes capsize prevention techniques and capsize recover. $20/person with their own kayak and equipment (must wear a wetsuit). $40/person includes kayak and wetsuit rental. All proceeds will be donated to the Mendocino County Water Safety Coalition. NOON - FREE KAYAK SAFETY DEMONSTRATION - Liquid Fusion Kayaking will demonstrate safety skills including how to get back into and onto a capsized kayak. ALL TYPES OF KAYAKS ARE ENCOURAGED FOR THIS EVENT. BRING YOURS OR RENT ONE FROM US.
LOCATION:Liquid Fusion Kayaking in Dolphin Isle Marina 32399 Basin Street Fort Bragg\, CA 95437
UID:e.2883.11401
SEQUENCE:3
DTSTAMP:20260422T111358Z
URL:http://mendocinocoast.smartcms.site/events/details/kayak-safety-clinic-11401
END:VEVENT

END:VCALENDAR
