BEGIN:VCALENDAR
VERSION:2.0
PRODID:-//ChamberMaster//Event Calendar 2.0//EN
METHOD:PUBLISH
X-PUBLISHED-TTL:P3D
REFRESH-INTERVAL:P3D
CALSCALE:GREGORIAN
BEGIN:VEVENT
DTSTART:20181001T180000Z
DTEND:20181002T000000Z
X-MICROSOFT-CDO-ALLDAYEVENT:FALSE
SUMMARY:Karen Fenley - Chroma\, Acrylics and Pastel on Canvas
DESCRIPTION:In September at Partners Gallery\, Karen Fenley is showing new works in acrylic and pastel on canvas.\n\nAs the show title "Chroma" suggests\, this work focuses on the intensity and vibrancy of color.  Returning to mediums she worked with over 40 years ago\, chalk pastel over acrylic on canvas\, and with reference to many of art history's great colorists\, these images\, with titles such as Equinox\, Green Rain\, Hot House and Deep Sleep\, evolved as a mixture of historical inspiration and her own current practice.\n\n \n\nThere is a First Friday Reception for the artist September 7th from 5 -8pm
X-ALT-DESC;FMTTYPE=text/html:<span style="color:black">In September at Partners Gallery\, Karen Fenley is showing new works in acrylic and pastel on canvas.</span><br />\n<span style="color:black">As the show title &quot\;Chroma&quot\; suggests\, this work focuses on the intensity and vibrancy of color.&nbsp\; Returning to mediums she worked with over 40 years ago\, chalk pastel over acrylic on canvas\, and with reference to many of art history&#39\;s great colorists\, these images\, with titles such as Equinox\, Green Rain\, Hot House and Deep Sleep\, evolved as a mixture of historical inspiration and her own current practice.</span><br />\n&nbsp\;<br />\n<span style="color:black">There is a First Friday Reception for the artist September 7<sup>th</sup> from 5 -8pm</span><br />\n<br />\n&nbsp\;
LOCATION:Partners Gallery 335 N. Franklin St Fort Bragg\, CA 95437
UID:e.2883.9355
SEQUENCE:3
DTSTAMP:20260422T225406Z
URL:http://mendocinocoast.smartcms.site/events/details/karen-fenley-chroma-acrylics-and-pastel-on-canvas-10-01-2018-9355
END:VEVENT

END:VCALENDAR
