BEGIN:VCALENDAR
VERSION:2.0
PRODID:-//ChamberMaster//Event Calendar 2.0//EN
METHOD:PUBLISH
X-PUBLISHED-TTL:P3D
REFRESH-INTERVAL:P3D
CALSCALE:GREGORIAN
BEGIN:VEVENT
DTSTART:20190324T010000Z
DTEND:20190324T040000Z
X-MICROSOFT-CDO-ALLDAYEVENT:FALSE
SUMMARY:K-Onda!
DESCRIPTION:New and classic Latin music with Marcel Gaurachi and Chad Swimmer
X-ALT-DESC;FMTTYPE=text/html:New and classic Latin music with Marcel Gaurachi and Chad Swimmer
LOCATION:The Westport Hotel and Old Abalone Pub
UID:e.2883.11323
SEQUENCE:3
DTSTAMP:20260422T143604Z
URL:http://mendocinocoast.smartcms.site/events/details/k-onda-11323
END:VEVENT

END:VCALENDAR
