BEGIN:VCALENDAR
VERSION:2.0
PRODID:-//ChamberMaster//Event Calendar 2.0//EN
METHOD:PUBLISH
X-PUBLISHED-TTL:P3D
REFRESH-INTERVAL:P3D
CALSCALE:GREGORIAN
BEGIN:VEVENT
DTSTART:20190914T020000Z
DTEND:20190914T043000Z
X-MICROSOFT-CDO-ALLDAYEVENT:FALSE
SUMMARY:Jon Mayer's 81st Birthday Bash
DESCRIPTION:Jon Mayer's 81st Birthday Bash\n\nFriday\, September 13\n\nJon Mayer   piano\, John Wiitala   bass\, and Akira Tana   drums\n\nThe "Bopster" is coming back to celebrate the "Big 81".\n\nThe repertoire draws from Jon's many recordings plus some new entries. It's The Great American Songbook meets Jazz classics.\n\n"The trio swings with an ease provided only by experience. So strong are the ballad vibes of these three\, these performances could be used for a master class in the art."\n\n   All About Jazz\n\nListen here
X-ALT-DESC;FMTTYPE=text/html:<h1 style="text-align:center">Jon Mayer&rsquo\;s 81st Birthday Bash</h1>\n\n<h4 style="text-align:center">Friday\, September 13</h4>\n\n<p style="text-align:center"><strong>Jon Mayer</strong>&nbsp\;&ndash\; piano\, John&nbsp\;<strong>Wiitala</strong>&nbsp\;&ndash\; bass\, and&nbsp\;<strong>Akira Tana</strong>&nbsp\;&ndash\; drums</p>\n\n<p style="text-align:center">The &ldquo\;Bopster&rdquo\; is coming back to celebrate the &ldquo\;Big 81&rdquo\;.</p>\n\n<p style="text-align:center">The repertoire draws from Jon&rsquo\;s many recordings plus some new entries. It&rsquo\;s The Great American Songbook meets Jazz classics.</p>\n\n<p style="text-align:center">&ldquo\;<em>The trio swings with an ease provided only by experience. So strong are the ballad vibes of these three\, these performances could be used for a master class in the art.</em>&rdquo\;<br />\n&ndash\;&nbsp\; All About Jazz</p>\n\n<p style="text-align:center">Listen&nbsp\;<a href="https://www.jonmayer.com/" rel="noopener noreferrer" style="box-sizing: border-box\; margin: 0px\; padding: 0px\; border: 0px\; outline: 0px\; background: 0px 0px\; vertical-align: baseline\; text-size-adjust: 100%\; color: rgb(131\, 34\, 39)\; text-decoration-line: none\;" target="_blank">here</a></p>\n
LOCATION:Sequoia Room 444 North Main Street Fort Bragg\, CA 95437 United States + Google Map Phone: 707-964-3400
UID:e.2883.11955
SEQUENCE:3
DTSTAMP:20260422T043035Z
URL:http://mendocinocoast.smartcms.site/events/details/jon-mayer-s-81st-birthday-bash-11955
END:VEVENT

END:VCALENDAR
