BEGIN:VCALENDAR
VERSION:2.0
PRODID:-//ChamberMaster//Event Calendar 2.0//EN
METHOD:PUBLISH
X-PUBLISHED-TTL:P3D
REFRESH-INTERVAL:P3D
CALSCALE:GREGORIAN
BEGIN:VEVENT
DTSTART:20170831T170000Z
DTEND:20171003T000000Z
X-MICROSOFT-CDO-ALLDAYEVENT:FALSE
SUMMARY:Joan Burleigh: Entering a New Land - Acrylic on Paper
DESCRIPTION:In September Partners Gallery presents "Entering a New Land" featuring works by Joan Burleigh. In honor of her 80th birthday\, Burleigh's exhibition of primarily new abstract paintings explores the realm of love and light with works of luminescent color. . Although the end of her journey in this new land is known\, the journey itself is unknown. Focusing through her art on being present and painting what is in her heart is the goal. The gallery is open Wednesday through Monday 10 am to 5 pm and Sundays 10 am to 4 pm.
X-ALT-DESC;FMTTYPE=text/html:In September Partners Gallery presents &ldquo\;Entering a New Land&rdquo\; featuring works by Joan Burleigh. In honor of her 80th birthday\, Burleigh&rsquo\;s exhibition of primarily new abstract paintings explores the realm of love and light with works of luminescent color. . Although the end of her journey in this new land is known\, the journey itself is unknown. Focusing through her art on being present and painting what is in her heart is the goal. The gallery is open Wednesday through Monday 10 am to 5 pm and Sundays 10 am to 4 pm.
LOCATION:Partners Gallery 335 N. Franklin St\, near Laurel Fort Bragg\, CA
UID:e.2883.4383
SEQUENCE:3
DTSTAMP:20260423T201408Z
URL:http://mendocinocoast.smartcms.site/events/details/joan-burleigh-entering-a-new-land-acrylic-on-paper-4383
END:VEVENT

END:VCALENDAR
