BEGIN:VCALENDAR
VERSION:2.0
PRODID:-//ChamberMaster//Event Calendar 2.0//EN
METHOD:PUBLISH
X-PUBLISHED-TTL:P3D
REFRESH-INTERVAL:P3D
CALSCALE:GREGORIAN
BEGIN:VEVENT
DTSTART:20180705T200000Z
DTEND:20180705T230000Z
X-MICROSOFT-CDO-ALLDAYEVENT:FALSE
SUMMARY:Jazz on the Lawn: The Swingin’ Boonville Big Band
DESCRIPTION:The Mendocino Coast Jazz Society and the Mendocino Art Center present Jazz on the Lawn\, featuring The Swingin' Boonville Big Band. Celebrate the 4th of July week while enjoying music and dancing to this 19-piece jazz big band\, including some of the county's finest musicians\, led by Bob Ayers. Bring a picnic\, and a blanket or lawn chair for seating.
X-ALT-DESC;FMTTYPE=text/html:The Mendocino Coast Jazz Society and the Mendocino Art Center present Jazz on the Lawn\, featuring The Swingin&rsquo\; Boonville Big Band. Celebrate the 4th of July week while enjoying music and dancing to this 19-piece jazz big band\, including some of the county&rsquo\;s finest musicians\, led by Bob Ayers. Bring a picnic\, and a blanket or lawn chair for seating.
LOCATION:Mendocino Art Center 45200 Little Lake Street at Kasten Street Mendocino
UID:e.2883.8994
SEQUENCE:3
DTSTAMP:20260423T060140Z
URL:http://mendocinocoast.smartcms.site/events/details/jazz-on-the-lawn-the-swingin-boonville-big-band-8994
END:VEVENT

END:VCALENDAR
