BEGIN:VCALENDAR
VERSION:2.0
PRODID:-//ChamberMaster//Event Calendar 2.0//EN
METHOD:PUBLISH
X-PUBLISHED-TTL:P3D
REFRESH-INTERVAL:P3D
CALSCALE:GREGORIAN
BEGIN:VEVENT
DTSTART:20170105T043000Z
DTEND:20170105T060000Z
X-MICROSOFT-CDO-ALLDAYEVENT:FALSE
SUMMARY:Jazz at the Sequoia Room - Jeff Chambers Power Trio
DESCRIPTION:One Show â€“ 7:30 pm\nGet this on your 2017 CalendarsJeff Chambers (bass)\, Peter Horvath (piano) & Tim Angulo (drums)Jeff Chambers has played with many great jazz artists including Dizzy Gillespie\, Les McCann\, Eddie Harris\, Benny Carter\, Tommy Flanagan\, and Joe Henderson. http://www.jeffchambersjazz.com/Peter Horvath has been perfecting his craft since the age of 6 when he began taking classical piano lessons. Born in Budapest\, Hungary\, he attended the Bela Bartok Conservatory of Music. At age 17\, he won the National Jazz Combo Competition in Gyor\, Hungary. Two years later he moved to Austria to attend the Vienna Conservatory of Music. Establishing himself quickly in the Austrian jazz scene\, he began playing and touring with jazz notables.Â www.peterhorvath.comDrummer Timothy Angulo\, from Berkeley\, California\, has been studying jazz since the age of 14. Throughout his musical career he has been a member of groups such as The Young Musicians Choral Orchestra\, SF Jazz High School All-Stars\, and The Next Generation Jazz Orchestra (2015). Growing up in the Bay Area Tim has been mentored by and been able to play with great local musicians such as Faye Carol\, Geechi Taylor\, Howard Wiley\, Marcus Shelby\, Sly Randolph\, Joe Warner\, Jeff Chambers\, David Ewell\, Mike Aaberg\, and Teodross Avery. Tim is in his second year as a Brubeck fellow.+ GOOGLE CALENDAR+ ICAL EXPORTDetailsDate:January 21Cost:$20.00Get Tickets Â»VenueSequoia Room444 North Main Street \nFort Bragg\, CA 95437 United States+ Google MapPhone:707-964-3400
X-ALT-DESC;FMTTYPE=text/html:<p><strong>One Show â€“ 7:30 pm</strong><br /><span>Get this on your 2017 Calendars</span></p><p><strong>Jeff Chambers (bass)\, Peter Horvath (piano) &amp\; Tim Angulo (drums)</strong></p><p>Jeff Chambers has played with many great jazz artists including Dizzy Gillespie\, Les McCann\, Eddie Harris\, Benny Carter\, Tommy Flanagan\, and Joe Henderson.<strong> http://www.jeffchambersjazz.com/</strong></p><p>Peter Horvath has been perfecting his craft since the age of 6 when he began taking classical piano lessons. Born in Budapest\, Hungary\, he attended the Bela Bartok Conservatory of Music. At age 17\, he won the National Jazz Combo Competition in Gyor\, Hungary. Two years later he moved to Austria to attend the Vienna Conservatory of Music. Establishing himself quickly in the Austrian jazz scene\, he began playing and touring with jazz notables.Â <strong>www.peterhorvath.com</strong></p><p>Drummer Timothy Angulo\, from Berkeley\, California\, has been studying jazz since the age of 14. Throughout his musical career he has been a member of groups such as The Young Musicians Choral Orchestra\, SF Jazz High School All-Stars\, and The Next Generation Jazz Orchestra (2015). Growing up in the Bay Area Tim has been mentored by and been able to play with great local musicians such as Faye Carol\, Geechi Taylor\, Howard Wiley\, Marcus Shelby\, Sly Randolph\, Joe Warner\, Jeff Chambers\, David Ewell\, Mike Aaberg\, and Teodross Avery. Tim is in his second year as a Brubeck fellow.</p><div><a title="Add to Google Calendar" href="http://www.google.com/calendar/event?action=TEMPLATE&amp\;text=The+Jeff+Chambers+Power+Trio&amp\;dates=20170121/20170122&amp\;details=One+Show+%26%238211%3B+7%3A30+pm%0AGet+this+on+your+2017+Calendars+%0AJeff+Chambers+%28bass%29%2C+Peter+Horvath+%28piano%29+%26amp%3B+Tim+Angulo+%28drums%29+%0AJeff+Chambers+has+played+with+many+great+jazz+artists+including+Dizzy+Gillespie%2C+Les+McCann%2C+Eddie+Harris%2C+Benny+Carter%2C+Tommy+Flanagan%2C+and+Joe+Henderson.+http%3A%2F%2Fwww.jeffchambersjazz.com%2F+%0APeter+Horvath+has+been+perfecting+his+craft+since+the+age+of+6+when+he+began+taking+classical+piano+lessons.+Born+in+Budapest%2C+Hungary%2C+he+attended+the+Bela+Bartok+Conservatory+of+Music.+At+age+17%2C+he+won+the+National+Jazz+Combo+Competition+in+Gyor%2C+Hungary.+Two+years+later+he+moved+to+Austria+to+attend+the+Vienna+Conservatory+of+Music.+Establishing+himself+quickly+in+the+Austrian+jazz+scene%2C+he+began+playing+and+touring+with+jazz+notables.+www.peterhorvath.com+%0ADrummer+Timothy+Angulo%2C+from+Berkeley%2C+California%2C+has+been+studying+jazz+since+the+age+of+14.+Throughout+his+musical+career+he+has+been+a+member+of+groups+such+as+The+Young+Musicians+Choral+Orchestra%2C+SF+Jazz+H+%28View+Full+Event+Description+Here%3A+http%3A%2F%2Fwww.northcoastbrewing.com%2Fevent%2Fthe-jeff-chambers-power-trio%2F%29&amp\;location=444+North+Main+Street%2C+Fort+Bragg%2C+CA%2C+95437%2C+United+States&amp\;trp=false&amp\;sprop=website:http://www.northcoastbrewing.com&amp\;ctz=America%2FLos_Angeles">+ GOOGLE CALENDAR</a><a title="Download .ics file" href="http://www.northcoastbrewing.com/event/the-jeff-chambers-power-trio/?ical=1&amp\;tribe_display=">+ ICAL EXPORT</a></div><div><div><h3>Details</h3><dl><dt>Date:</dt><dd><abbr title="2017-01-21">January 21</abbr></dd><dt>Cost:</dt><dd>$20.00</dd><dd><a href="http://www.brownpapertickets.com/event/2723473" target="_self"></a><a href="http://www.brownpapertickets.com/event/2723473" target="_blank">Get Tickets Â»</a></dd></dl></div><div><h3>Venue</h3><dl><dd>Sequoia Room</dd><dd><address><span><span>444 North Main Street</span> <br /><span>Fort Bragg</span><span>\,</span> <abbr title="California">CA</abbr> <span>95437</span> <span>United States</span></span><a title="Click to view a Google Map" href="http://maps.google.com/maps?f=q&amp\;source=s_q&amp\;hl=en&amp\;geocode=&amp\;q=444+North+Main+Street+Fort+Bragg+CA+95437+United+States" target="_blank">+ Google Map</a></address></dd><dt>Phone:</dt><dd>707-964-3400</dd></dl></div></div>
LOCATION:North Coast Brewery Taproom Fort Bragg
UID:e.2883.1082
SEQUENCE:3
DTSTAMP:20260424T110209Z
URL:http://mendocinocoast.smartcms.site/events/details/jazz-at-the-sequoia-room-jeff-chambers-power-trio-01-04-2017-1082
END:VEVENT

END:VCALENDAR
