BEGIN:VCALENDAR
VERSION:2.0
PRODID:-//ChamberMaster//Event Calendar 2.0//EN
METHOD:PUBLISH
X-PUBLISHED-TTL:P3D
REFRESH-INTERVAL:P3D
CALSCALE:GREGORIAN
BEGIN:VEVENT
DTSTART:20171117T020000Z
DTEND:20171117T040000Z
X-MICROSOFT-CDO-ALLDAYEVENT:FALSE
SUMMARY:Is Your Business a Force For Good? Become a Certified B Corp to Build a Better Business.
DESCRIPTION:Did you know that 73% of consumers care about the company's sustainability goals\, not just the product\, when they consider purchasing? In today's economy\, can a for-profit business owner put into action their social and environmental beliefs while improving the bottom line?\n\n \n\nNo matter the size or industry becoming a Certified B Corp will help consumers know your company meets rigorous standards of social and environmental responsibility that they demand. B Corps are part of a global movement working together toward one unifying goal: to redefine success in business.\n\n \n\nProduced by the West Company\, a nonprofit\, economic development organization providing Free one-on-one business counseling and workshops to targeted communities for economic and social empowerment. Serving all of Mendocino County.\n\n\n\n#westcoworkshop #westcompany #ukiahworkshops #womeninbusiness #bcorp #sustainabilityinbusiness #sustainabilitymatters #bcorpmendo\n\n \n\n \n\nChamber Members: $20\n\nNon Chamber Members: $25\n\nRegister Now: https://bcorpmendo.eventbrite.com
X-ALT-DESC;FMTTYPE=text/html:<span style="font-family:calibri"><span style="font-size:11pt">Did you know that 73% of consumers care about the company&rsquo\;s sustainability goals\, not just the product\, when they consider purchasing? In today&rsquo\;s economy\, can a for-profit business owner put into action their social and environmental beliefs while improving the bottom line?</span></span><br />\n&nbsp\;<br />\n<span style="font-family:calibri"><span style="font-size:11pt">No matter the size or industry becoming a Certified B Corp will help consumers know your company meets rigorous standards of social and environmental responsibility that they demand. B Corps are part of a global movement working together toward one unifying goal: to redefine success in business.</span></span><br />\n&nbsp\;<br />\nProduced by the West Company\,&nbsp\;a nonprofit\, economic development organization providing Free one-on-one business counseling and workshops to targeted communities for economic and social empowerment. Serving all of Mendocino County.<br />\n<br />\n#westcoworkshop #westcompany #ukiahworkshops #womeninbusiness #bcorp #sustainabilityinbusiness&nbsp\;#sustainabilitymatters #bcorpmendo<br />\n&nbsp\;<br />\n&nbsp\;<br />\nChamber Members: $20<br />\nNon Chamber Members: $25<br />\n<span style="font-family:calibri"><span style="font-size:11.0pt">Register Now: </span></span><a href="https://bcorpmendo.eventbrite.com"><span style="font-family:calibri"><span style="font-size:11.0pt">https://bcorpmendo.eventbrite.com</span></span></a>
LOCATION:West Company Ukiah Office 185 E. Church Street Ukiah\, CA 95482
UID:e.2883.5328
SEQUENCE:3
DTSTAMP:20260423T173308Z
URL:http://mendocinocoast.smartcms.site/events/details/is-your-business-a-force-for-good-become-a-certified-b-corp-to-build-a-better-business-5328
END:VEVENT

END:VCALENDAR
