BEGIN:VCALENDAR
VERSION:2.0
PRODID:-//ChamberMaster//Event Calendar 2.0//EN
METHOD:PUBLISH
X-PUBLISHED-TTL:P3D
REFRESH-INTERVAL:P3D
CALSCALE:GREGORIAN
BEGIN:VEVENT
DTSTART:20180318T000000Z
DTEND:20180318T020000Z
X-MICROSOFT-CDO-ALLDAYEVENT:FALSE
SUMMARY:Irish Dinner at Redwood Coast Senior Center
DESCRIPTION:Sal's Bistro at the Senior Center will transform into an Irish Pub on Saturday\, March 17\, and serve up good old fashioned Corned Beef and Cabbage including a green salad starter\, green sherbet dessert and a variety of beers from our own North Coast Brewery (none of them green)\, as well as local wines all included in this community celebration. Of course the evening will include Irish music with dinner. The monthly community dinner celebrations at the Senior Center are easy on the pocketbook - just twenty bucks for the whole thing - and yes that includes everything - beer & wine\, salad\, entree\, dessert\, music and great company.
X-ALT-DESC;FMTTYPE=text/html:Sal&#39\;s Bistro at the Senior Center will transform into an Irish Pub on Saturday\, March 17\, and serve up good old fashioned Corned Beef and Cabbage including a green salad starter\, green sherbet dessert and a variety of beers from our own North Coast Brewery (none of them green)\, as well as local wines all included in this community celebration. Of course the evening will include Irish music with dinner. The monthly community dinner celebrations at the Senior Center are easy on the pocketbook - just twenty bucks for the whole thing - and yes that includes everything - beer &amp\; wine\, salad\, entree\, dessert\, music and great company.
LOCATION:490 N Harold st Fort Bragg Ca
UID:e.2883.5580
SEQUENCE:3
DTSTAMP:20260423T105552Z
URL:http://mendocinocoast.smartcms.site/events/details/irish-dinner-at-redwood-coast-senior-center-5580
END:VEVENT

END:VCALENDAR
