BEGIN:VCALENDAR
VERSION:2.0
PRODID:-//ChamberMaster//Event Calendar 2.0//EN
METHOD:PUBLISH
X-PUBLISHED-TTL:P3D
REFRESH-INTERVAL:P3D
CALSCALE:GREGORIAN
BEGIN:VEVENT
DTSTART:20180104T180000Z
DTEND:20180128T200000Z
X-MICROSOFT-CDO-ALLDAYEVENT:FALSE
SUMMARY:Invitational Show
DESCRIPTION:INVITATIONAL JANUARY 4   28 FIRST FRIDAY RECEPTION JAN 5\, 5-8pm The artists in Partners Gallery Invitational show in January are inspired by graphic design\, the comics\, graffiti art\, and iconic characters. Their art tells stories of romance\, of loss and sadness\, of the mystery ride of life. The sweet sad being in some of Deth P. Sun's narratives and the twisted comic book heroes and villains in the work of Benny Bones and Donovan Clark take us gently or forcefully into other realms. Sharon Bowers' graphic memoirs and stories are charming and funny\, and Jacob Hewko's drawings and paintings capture the dark essence of our natural world through portraits of people and animals. Partners Gallery is open Wednesday through Monday 10 am to 5 pm and Sundays 10 am to 4 pm.
X-ALT-DESC;FMTTYPE=text/html:INVITATIONAL JANUARY 4 &ndash\; 28 FIRST FRIDAY RECEPTION JAN 5\, 5-8pm The artists in Partners Gallery Invitational show in January are inspired by graphic design\, the comics\, graffiti art\, and iconic characters. Their art tells stories of romance\, of loss and sadness\, of the mystery ride of life. The sweet sad being in some of Deth P. Sun&#39\;s narratives and the twisted comic book heroes and villains in the work of Benny Bones and Donovan Clark take us gently or forcefully into other realms. Sharon Bowers&#39\; graphic memoirs and stories are charming and funny\, and Jacob Hewko&#39\;s drawings and paintings capture the dark essence of our natural world through portraits of people and animals. Partners Gallery is open Wednesday through Monday 10 am to 5 pm and Sundays 10 am to 4 pm.
LOCATION:Partners Gallery 335 N. Franklin St Downtown Fort Bragg
UID:e.2883.5502
SEQUENCE:3
DTSTAMP:20260423T140842Z
URL:http://mendocinocoast.smartcms.site/events/details/invitational-show-5502
END:VEVENT

END:VCALENDAR
