BEGIN:VCALENDAR
VERSION:2.0
PRODID:-//ChamberMaster//Event Calendar 2.0//EN
METHOD:PUBLISH
X-PUBLISHED-TTL:P3D
REFRESH-INTERVAL:P3D
CALSCALE:GREGORIAN
BEGIN:VEVENT
DTSTART:20180308T153000Z
DTEND:20180308T180000Z
X-MICROSOFT-CDO-ALLDAYEVENT:FALSE
SUMMARY:International Women's Day Celebration - WIBN Breakfast
DESCRIPTION:In Mendocino County today many women successfully lead organizations\, businesses\, government departments and community activities that improve the health and well-being for all residents. March 8th\, International Women's Day\, is a day to both honor and reflect on the role these women play in making Mendocino a better county. We all learn best about ourselves and the lives of others through story telling. Join us for an informal breakfast and the power of storytelling. Share your story of courage and growth. Join the Mendocino Coast Women in Business (WIBN) and the Women's Business Center of Mendocino (WBC) for a pot luck community breakfast gathering and storytelling event. 7:30am: Network 8:00am: Program beings Donation: $10. WIBN Members: Free
X-ALT-DESC;FMTTYPE=text/html:In Mendocino County today many women successfully lead organizations\, businesses\, government departments and community activities that improve the health and well-being for all residents. March 8th\, International Women&#39\;s Day\, is a day to both honor and reflect on the role these women play in making Mendocino a better county. We all learn best about ourselves and the lives of others through story telling. Join us for an informal breakfast and the power of storytelling. Share your story of courage and growth. Join the Mendocino Coast Women in Business (WIBN) and the Women&#39\;s Business Center of Mendocino (WBC) for a pot luck community breakfast gathering and storytelling event. 7:30am: Network 8:00am: Program beings Donation: $10. WIBN Members: Free
LOCATION:Caspar Community Center 15051 Caspar Road Caspar\, CA 95420
UID:e.2883.5586
SEQUENCE:3
DTSTAMP:20260423T105804Z
URL:http://mendocinocoast.smartcms.site/events/details/international-women-s-day-celebration-wibn-breakfast-03-08-2018-5586
END:VEVENT

END:VCALENDAR
