BEGIN:VCALENDAR
VERSION:2.0
PRODID:-//ChamberMaster//Event Calendar 2.0//EN
METHOD:PUBLISH
X-PUBLISHED-TTL:P3D
REFRESH-INTERVAL:P3D
CALSCALE:GREGORIAN
BEGIN:VEVENT
DTSTART:20190923T150000Z
DTEND:20190923T170000Z
X-MICROSOFT-CDO-ALLDAYEVENT:FALSE
SUMMARY:Ins and Outs of Selling a Business
DESCRIPTION:When it comes to selling your business\; preparation is key to a successful transaction. Learn from experts that will cover the following & more: The importance of having an exit strategy Preparing your business for sale Using a business broker vs going solo Setting an asking price Marketing your business for sale Screening and identifying qualified buyers Negotiating strategies\, what buyers will ask Financing options for a successful sale Due diligence and finalizing the deal
X-ALT-DESC;FMTTYPE=text/html:When it comes to selling your business\; preparation is key to a successful transaction. Learn from experts that will cover the following &amp\; more: The importance of having an exit strategy Preparing your business for sale Using a business broker vs going solo Setting an asking price Marketing your business for sale Screening and identifying qualified buyers Negotiating strategies\, what buyers will ask Financing options for a successful sale Due diligence and finalizing the deal
LOCATION:345 N Franklin St. Fort Bragg\, CA
UID:e.2883.11986
SEQUENCE:3
DTSTAMP:20260422T043633Z
URL:http://mendocinocoast.smartcms.site/events/details/ins-and-outs-of-selling-a-business-11986
END:VEVENT

END:VCALENDAR
