BEGIN:VCALENDAR
VERSION:2.0
PRODID:-//ChamberMaster//Event Calendar 2.0//EN
METHOD:PUBLISH
X-PUBLISHED-TTL:P3D
REFRESH-INTERVAL:P3D
CALSCALE:GREGORIAN
BEGIN:VEVENT
DTSTART:20190131T020000Z
DTEND:20190131T040000Z
X-MICROSOFT-CDO-ALLDAYEVENT:FALSE
SUMMARY:Independent Contractor vs Employee?
DESCRIPTION:Most small businesses cannot always be sure their workers are correctly classified. Employee or independent contractor\, how can you be sure which it should really be? Attend this valuable workshop to find the right answer for your business. Learn how to classify employees and protect your business from serious fines and penalties. With expert instructor\, Lisa McCormack\, you will receive detailed information about how to correctly classify your workers. Instructor Lisa McCormack has spent over thirty years as an HR practitioner and leader\, working with small companies undergoing growth and highly successful companies.
X-ALT-DESC;FMTTYPE=text/html:Most small businesses cannot always be sure their workers are correctly classified. Employee or independent contractor\, how can you be sure which it should really be? Attend this valuable workshop to find the right answer for your business. Learn how to classify employees and protect your business from serious fines and penalties. With expert instructor\, Lisa McCormack\, you will receive detailed information about how to correctly classify your workers. Instructor Lisa McCormack has spent over thirty years as an HR practitioner and leader\, working with small companies undergoing growth and highly successful companies.
LOCATION:West Business Development Center 345 N Franklin St Fort Bragg\, CA 95437
UID:e.2883.11246
SEQUENCE:3
DTSTAMP:20260422T174300Z
URL:http://mendocinocoast.smartcms.site/events/details/independent-contractor-vs-employee-11246
END:VEVENT

END:VCALENDAR
