BEGIN:VCALENDAR
VERSION:2.0
PRODID:-//ChamberMaster//Event Calendar 2.0//EN
METHOD:PUBLISH
X-PUBLISHED-TTL:P3D
REFRESH-INTERVAL:P3D
CALSCALE:GREGORIAN
BEGIN:VEVENT
DTSTART;VALUE=DATE:20161026
DTEND;VALUE=DATE:20161027
TRANSP:TRANSPARENT
X-MICROSOFT-CDO-ALLDAYEVENT:TRUE
SUMMARY:In the Garden-- Art Explorers exhibit
DESCRIPTION:Art Explorers biggest art show of the year\,Â In the Garden\, opensÂ at Odd Fellows Hall in Mendocino on November 11th and runs until November 27th\, 11a.m. to 5 p.m.. Come celebrate our natural landscape atÂ the gala opening reception\, November 12th\, 5p.m. to 8p.m. Meet the 23 artists of Art Explorers\, enjoy food and wine\, shop for holiday gifts and orginal artwork.Learn more about Art Explorers\, a nonprofit creative arts program for adults with diabilities and brain injuries\, at www.artexplorers.org
X-ALT-DESC;FMTTYPE=text/html:<p>Art Explorers biggest art show of the year\,Â <em>In the Garden\, </em>opensÂ at Odd Fellows Hall in Mendocino on November 11th and runs until November 27th\, 11a.m. to 5 p.m.. Come celebrate our natural landscape atÂ the gala opening reception\, November 12th\, 5p.m. to 8p.m. Meet the 23 artists of Art Explorers\, enjoy food and wine\, shop for holiday gifts and orginal artwork.</p><p>Learn more about Art Explorers\, a nonprofit creative arts program for adults with diabilities and brain injuries\, at www.artexplorers.org</p>
LOCATION:Odd Fellows Hall Mendocino
UID:e.2883.1056
SEQUENCE:3
DTSTAMP:20260424T160544Z
URL:http://mendocinocoast.smartcms.site/events/details/in-the-garden-art-explorers-exhibit-10-26-2016-1056
END:VEVENT

END:VCALENDAR
