BEGIN:VCALENDAR
VERSION:2.0
PRODID:-//ChamberMaster//Event Calendar 2.0//EN
METHOD:PUBLISH
X-PUBLISHED-TTL:P3D
REFRESH-INTERVAL:P3D
CALSCALE:GREGORIAN
BEGIN:VEVENT
DTSTART:20171208T170000Z
DTEND:20171208T200000Z
X-MICROSOFT-CDO-ALLDAYEVENT:FALSE
SUMMARY:How to do Business with the State of California - Fort Bragg
DESCRIPTION:California wants to buy your products or services. Are you ready to sell them? The state of California is the sixth largest economy in the world! State agencies purchase everything from office supplies to construction services to goat rentals (seriously!)\, and everything in between. If you sell it\, they probably buy it! You Will Learn How To:   Find\, bid on and win state government contracts   Navigate Cal eProcure   Easily get certified as a Small Business or Disabled Veteran Business Enterprise (SB/DVBE)   Market your business to state agencies   Advertise to prime contractors   Receive free procurement assistance from Norcal PTAC To Register: www.BizFortBragg.eventbrite.com
X-ALT-DESC;FMTTYPE=text/html:California wants to buy your products or services. Are you ready to sell them? The state of California is the sixth largest economy in the world! State agencies purchase everything from office supplies to construction services to goat rentals (seriously!)\, and everything in between. If you sell it\, they probably buy it! You Will Learn How To: &bull\; Find\, bid on and win state government contracts &bull\; Navigate Cal eProcure &bull\; Easily get certified as a Small Business or Disabled Veteran Business Enterprise (SB/DVBE) &bull\; Market your business to state agencies &bull\; Advertise to prime contractors &bull\; Receive free procurement assistance from Norcal PTAC To Register: www.BizFortBragg.eventbrite.com
LOCATION:West Company Mendocino Coast Office 760 B Stewart St Fort Bragg\, CA 95437
UID:e.2883.5297
SEQUENCE:3
DTSTAMP:20260423T191542Z
URL:http://mendocinocoast.smartcms.site/events/details/how-to-do-business-with-the-state-of-california-fort-bragg-5297
END:VEVENT

END:VCALENDAR
