BEGIN:VCALENDAR
VERSION:2.0
PRODID:-//ChamberMaster//Event Calendar 2.0//EN
METHOD:PUBLISH
X-PUBLISHED-TTL:P3D
REFRESH-INTERVAL:P3D
CALSCALE:GREGORIAN
BEGIN:VEVENT
DTSTART;VALUE=DATE:20170225
DTEND;VALUE=DATE:20170226
TRANSP:TRANSPARENT
X-MICROSOFT-CDO-ALLDAYEVENT:TRUE
SUMMARY:How to do Business with the State of California
DESCRIPTION:The Northern California PTAC and West Company invites small business owners to How to do business in the state of California. The free\, half-day workshop features expert advice and insight on how the California procurement process works and current procurement opportunities in the Mendocino County area. Attendees will have the opportunity to network with local advocates and buyers like Caltrans\, CHP\, Cal Fire\, CDCR\, and more! Admission is free.To register please visit our website at www.westcompany.org
X-ALT-DESC;FMTTYPE=text/html:<p dir="ltr">The Northern California PTAC and West Company invites small business owners to How to do business in the state of California. The free\, half-day workshop features expert advice and insight on how the California procurement process works and current procurement opportunities in the Mendocino County area. Attendees will have the opportunity to network with local advocates and buyers like Caltrans\, CHP\, Cal Fire\, CDCR\, and more! Admission is free.</p><p>To register please visit our website at www.westcompany.org</p>
LOCATION:West Company Coast Office Fort Bragg
UID:e.2883.1134
SEQUENCE:3
DTSTAMP:20260424T094323Z
URL:http://mendocinocoast.smartcms.site/events/details/how-to-do-business-with-the-state-of-california-02-25-2017-1134
END:VEVENT

END:VCALENDAR
