BEGIN:VCALENDAR
VERSION:2.0
PRODID:-//ChamberMaster//Event Calendar 2.0//EN
METHOD:PUBLISH
X-PUBLISHED-TTL:P3D
REFRESH-INTERVAL:P3D
CALSCALE:GREGORIAN
BEGIN:VEVENT
DTSTART:20171210T003000Z
DTEND:20171210T020000Z
X-MICROSOFT-CDO-ALLDAYEVENT:FALSE
SUMMARY:Holiday Tree Lighting
DESCRIPTION:Mendocino Rotary elves will trim and light the Holiday tree in Rotary Park. Stop by on Shop Local night in Mendocino.
X-ALT-DESC;FMTTYPE=text/html:Mendocino Rotary elves will trim and light the Holiday tree in Rotary Park. Stop by on Shop Local night in Mendocino.
LOCATION:https://www.google.com/maps/place/Mendocino+Rotary+Park/@39.3055519\,-123.8000777\,17z/data=!3m1!4b1!4m5!3m4!1s0x80804d35189b261d:0x8fa4ed65d6b2b337!8m2!3d39.3055478!4d-123.797889
UID:e.2883.5335
SEQUENCE:3
DTSTAMP:20260423T172150Z
URL:http://mendocinocoast.smartcms.site/events/details/holiday-tree-lighting-5335
END:VEVENT

END:VCALENDAR
