BEGIN:VCALENDAR
VERSION:2.0
PRODID:-//ChamberMaster//Event Calendar 2.0//EN
METHOD:PUBLISH
X-PUBLISHED-TTL:P3D
REFRESH-INTERVAL:P3D
CALSCALE:GREGORIAN
BEGIN:VEVENT
DTSTART:20181202T030000Z
DTEND:20181202T040000Z
X-MICROSOFT-CDO-ALLDAYEVENT:FALSE
SUMMARY:Holiday Lights Parade
DESCRIPTION:You may download an entry from Nor Coast Rodders website or stop by Fort Bragg Fire.
X-ALT-DESC;FMTTYPE=text/html:You may download an entry from Nor Coast Rodders website or stop by Fort Bragg Fire.
LOCATION:Downtown Fort Bragg
UID:e.2883.10384
SEQUENCE:3
DTSTAMP:20260422T192848Z
URL:http://mendocinocoast.smartcms.site/events/details/holiday-lights-parade-10384
END:VEVENT

END:VCALENDAR
