BEGIN:VCALENDAR
VERSION:2.0
PRODID:-//ChamberMaster//Event Calendar 2.0//EN
METHOD:PUBLISH
X-PUBLISHED-TTL:P3D
REFRESH-INTERVAL:P3D
CALSCALE:GREGORIAN
BEGIN:VEVENT
DTSTART:20191222T190000Z
DTEND:20191223T010000Z
X-MICROSOFT-CDO-ALLDAYEVENT:FALSE
SUMMARY:Holiday Gift Show
DESCRIPTION:Partners Gallery is holding its annual holiday gift show featuring 15 local artisans and small works by gallery artists.\n\nPieces include pendants and brooches of smalti glass\, enamel bowls\, handwoven scarves\, glass\, clay and felt bead jewelry\, felt boxes and childrens hats. There are wooden block carts\, bowls and wood sculptures and toys. Ceramic pieces include sculptures and whimsical ceramic dishes. Also expect a variety of art works by gallery artists.
X-ALT-DESC;FMTTYPE=text/html:<p><span style="font-family:helvetica\; font-size:14pt">Partners Gallery is holding its annual holiday gift show featuring 15 local artisans and small works by gallery artists.</span></p>\n\n<p><span style="font-family:helvetica\; font-size:14pt">Pieces include pendants and brooches of smalti glass\, enamel bowls\, handwoven scarves\, glass\, clay and felt bead jewelry\, felt boxes and childrens hats. There are wooden block carts\, bowls and wood sculptures and toys. Ceramic pieces include sculptures and whimsical ceramic dishes. Also expect a variety of art works by gallery artists.&nbsp\;</span></p>\n
LOCATION:Partners Gallery 335 N. Franklin St Fort Bragg\, CA 95437
UID:e.2883.12565
SEQUENCE:3
DTSTAMP:20260421T234004Z
URL:http://mendocinocoast.smartcms.site/events/details/holiday-gift-show-12-22-2019-12565
END:VEVENT

END:VCALENDAR
