BEGIN:VCALENDAR
VERSION:2.0
PRODID:-//ChamberMaster//Event Calendar 2.0//EN
METHOD:PUBLISH
X-PUBLISHED-TTL:P3D
REFRESH-INTERVAL:P3D
CALSCALE:GREGORIAN
BEGIN:VEVENT
DTSTART:20190526T020000Z
DTEND:20190526T020000Z
X-MICROSOFT-CDO-ALLDAYEVENT:FALSE
SUMMARY:Hit 7 Run Theater
DESCRIPTION:Hit & Run Theater returns May 25th at 7pm. Come & Join us at the Redwood Coast Senior Center for a fun filled evening.To benefit the Senior Center.All Improv Show!! Based on audience suggestions!! Margaritas\,nachos\, beer & wine will be available.
X-ALT-DESC;FMTTYPE=text/html:Hit &amp\; Run Theater returns May 25th at 7pm. Come &amp\; Join us at the Redwood Coast Senior Center for a fun filled evening.To benefit the Senior Center.All Improv Show!! Based on audience suggestions!! Margaritas\,nachos\, beer &amp\; wine will be available.
LOCATION:Redwood Coast Senior Center 490 N Harold St Ft bragg
UID:e.2883.11442
SEQUENCE:3
DTSTAMP:20260422T111140Z
URL:http://mendocinocoast.smartcms.site/events/details/hit-7-run-theater-11442
END:VEVENT

END:VCALENDAR
