BEGIN:VCALENDAR
VERSION:2.0
PRODID:-//ChamberMaster//Event Calendar 2.0//EN
METHOD:PUBLISH
X-PUBLISHED-TTL:P3D
REFRESH-INTERVAL:P3D
CALSCALE:GREGORIAN
BEGIN:VEVENT
DTSTART:20180505T220000Z
DTEND:20180505T233000Z
X-MICROSOFT-CDO-ALLDAYEVENT:FALSE
SUMMARY:History of Life on Earth Lecture Pt. 1
DESCRIPTION:Using actual fossils as signposts\, dinosaur hunter/paleontologist/illustrator\, Rob Sula\, leads a trip through time exploring the awesome and sometimes bizarre creatures that have inhabited our world.
X-ALT-DESC;FMTTYPE=text/html:Using actual fossils as signposts\, dinosaur hunter/paleontologist/illustrator\, Rob Sula\, leads a trip through time exploring the awesome and sometimes bizarre creatures that have inhabited our world.
LOCATION:Fort Bragg Library 499 E Laurel St. Fort Bragg
UID:e.2883.5646
SEQUENCE:3
DTSTAMP:20260423T073639Z
URL:http://mendocinocoast.smartcms.site/events/details/history-of-life-on-earth-lecture-pt-1-5646
END:VEVENT

END:VCALENDAR
