BEGIN:VCALENDAR
VERSION:2.0
PRODID:-//ChamberMaster//Event Calendar 2.0//EN
METHOD:PUBLISH
X-PUBLISHED-TTL:P3D
REFRESH-INTERVAL:P3D
CALSCALE:GREGORIAN
BEGIN:VEVENT
DTSTART:20191207T010000Z
DTEND:20191207T040000Z
X-MICROSOFT-CDO-ALLDAYEVENT:FALSE
SUMMARY:Healthy for the Holidays at Interior
DESCRIPTION:Food + Fun + Friends + Shopping! Join us for December First Friday with light bites\, tips for staying healthy during the holidays\, music\, shopping\, prizes\, selected items discounted and more..... Mendocino Coast Clinics will be joining us at Interior to help get you Healthy for Holidays! Keep an eye on your holiday stress with a free blood pressure check\, and speaking of eyes\, you can get a free vision test\, too. All the better to keep a watch out for Santa! Anyone who completes one of these free health screenings can spin the wheel for prizes. MCC's Registered Dietitian will be here with delicious snacks and tips to jump start your health and wellness goals for the New Year. Sip smarter during the holidays with tips from our Redwood Ave friend Jeanine Jordon from Jordon Studio! . All this will be accompanied by beautiful music from our friends Acoustic Serenade! So come by and see us to start your happy and healthy holiday season!
X-ALT-DESC;FMTTYPE=text/html:Food + Fun + Friends + Shopping! Join us for December First Friday with light bites\, tips for staying healthy during the holidays\, music\, shopping\, prizes\, selected items discounted and more..... Mendocino Coast Clinics will be joining us at Interior to help get you Healthy for Holidays! Keep an eye on your holiday stress with a free blood pressure check\, and speaking of eyes\, you can get a free vision test\, too. All the better to keep a watch out for Santa! Anyone who completes one of these free health screenings can spin the wheel for prizes. MCC&rsquo\;s Registered Dietitian will be here with delicious snacks and tips to jump start your health and wellness goals for the New Year. Sip smarter during the holidays with tips from our Redwood Ave friend Jeanine Jordon from Jordon Studio! . All this will be accompanied by beautiful music from our friends Acoustic Serenade! So come by and see us to start your happy and healthy holiday season!
LOCATION:Interior\, 224 East Redwood\, Fort Bragg
UID:e.2883.12574
SEQUENCE:3
DTSTAMP:20260421T233900Z
URL:http://mendocinocoast.smartcms.site/events/details/healthy-for-the-holidays-at-interior-12574
END:VEVENT

END:VCALENDAR
