BEGIN:VCALENDAR
VERSION:2.0
PRODID:-//ChamberMaster//Event Calendar 2.0//EN
METHOD:PUBLISH
X-PUBLISHED-TTL:P3D
REFRESH-INTERVAL:P3D
CALSCALE:GREGORIAN
BEGIN:VEVENT
DTSTART:20170725T163000Z
DTEND:20170809T003000Z
X-MICROSOFT-CDO-ALLDAYEVENT:FALSE
SUMMARY:Haywire's 30% off Sale!
DESCRIPTION:30% off sale! Most everything in the store\, including clearance items. Great savings opportunity!
X-ALT-DESC;FMTTYPE=text/html:30% off sale! Most everything in the store\, including clearance items. Great savings opportunity!
LOCATION:Haywire\, Inc. 151 W. Elm Street Fort Bragg
UID:e.2883.3776
SEQUENCE:3
DTSTAMP:20260423T232552Z
URL:http://mendocinocoast.smartcms.site/events/details/haywire-s-30-off-sale-3776
END:VEVENT

END:VCALENDAR
