BEGIN:VCALENDAR
VERSION:2.0
PRODID:-//ChamberMaster//Event Calendar 2.0//EN
METHOD:PUBLISH
X-PUBLISHED-TTL:P3D
REFRESH-INTERVAL:P3D
CALSCALE:GREGORIAN
BEGIN:VEVENT
DTSTART;VALUE=DATE:20170404
DTEND;VALUE=DATE:20170405
TRANSP:TRANSPARENT
X-MICROSOFT-CDO-ALLDAYEVENT:TRUE
SUMMARY:Harvest Market 10% Off Sale
DESCRIPTION:Save the Date! Our next 10% off sale is Wednesday\, April 12th. Shop Harvest Market\, Harvest at Mendosas\, Mendocino Hardware and SAVE\, SAVE\, SAVE!!!
X-ALT-DESC;FMTTYPE=text/html:<p>Save the Date! Our next 10% off sale is Wednesday\, April 12th. Shop Harvest Market\, Harvest at Mendosas\, Mendocino Hardware and SAVE\, SAVE\, SAVE!!!<span style="white-space: pre\;"> </span></p>
LOCATION:Harvest Market\, Mendocino Hardware\, Harvest @ Mendosas FB & Mendocino
UID:e.2883.1179
SEQUENCE:3
DTSTAMP:20260424T061154Z
URL:http://mendocinocoast.smartcms.site/events/details/harvest-market-10-off-sale-04-04-2017-1179
END:VEVENT

END:VCALENDAR
