BEGIN:VCALENDAR
VERSION:2.0
PRODID:-//ChamberMaster//Event Calendar 2.0//EN
METHOD:PUBLISH
X-PUBLISHED-TTL:P3D
REFRESH-INTERVAL:P3D
CALSCALE:GREGORIAN
BEGIN:VEVENT
DTSTART:20181014T000000Z
DTEND:20181014T020000Z
X-MICROSOFT-CDO-ALLDAYEVENT:FALSE
SUMMARY:Harvest Festival Dinner
DESCRIPTION:You are invited to Harvest Festival Dinner at Sal's Bistro.Redwood Coast Senior Center's fund raising event Saturday evening October 13\,5-7pm. This event offers a choice of Roasted Tri Tip\,Chicken Cordon Bleu or Vegetarian Lasagne.Ice cream sundae buffet included.Also complimentary beer\,wine and soft drinks.
X-ALT-DESC;FMTTYPE=text/html:You are invited to Harvest Festival Dinner at Sal&lsquo\;s Bistro.Redwood Coast Senior Center&lsquo\;s fund raising event Saturday evening October 13\,5-7pm. This event offers a choice of Roasted Tri Tip\,Chicken Cordon Bleu or Vegetarian Lasagne.Ice cream sundae buffet included.Also complimentary beer\,wine and soft drinks.
LOCATION:Redwood Coast Senior Center 490 N Harold St. Fort Bragg
UID:e.2883.10296
SEQUENCE:3
DTSTAMP:20260422T225407Z
URL:http://mendocinocoast.smartcms.site/events/details/harvest-festival-dinner-10-13-2018-10296
END:VEVENT

END:VCALENDAR
