BEGIN:VCALENDAR
VERSION:2.0
PRODID:-//ChamberMaster//Event Calendar 2.0//EN
METHOD:PUBLISH
X-PUBLISHED-TTL:P3D
REFRESH-INTERVAL:P3D
CALSCALE:GREGORIAN
BEGIN:VEVENT
DTSTART:20180801T003000Z
DTEND:20180801T020000Z
X-MICROSOFT-CDO-ALLDAYEVENT:FALSE
SUMMARY:Harry Potter Trivia
DESCRIPTION:Celebrate Harry's birthday by testing your knowledge about him against other Muggles. You may play on your own or on a team. Ages 8 to adult.
X-ALT-DESC;FMTTYPE=text/html:Celebrate Harry&rsquo\;s birthday by testing your knowledge about him against other Muggles. You may play on your own or on a team. Ages 8 to adult.
LOCATION:Fort Bragg Library 499 E Laurel St Fort Bragg\, CA 95437
UID:e.2883.9080
SEQUENCE:3
DTSTAMP:20260423T040648Z
URL:http://mendocinocoast.smartcms.site/events/details/harry-potter-trivia-9080
END:VEVENT

END:VCALENDAR
