BEGIN:VCALENDAR
VERSION:2.0
PRODID:-//ChamberMaster//Event Calendar 2.0//EN
METHOD:PUBLISH
X-PUBLISHED-TTL:P3D
REFRESH-INTERVAL:P3D
CALSCALE:GREGORIAN
BEGIN:VEVENT
DTSTART:20190731T220000Z
DTEND:20190801T010000Z
X-MICROSOFT-CDO-ALLDAYEVENT:FALSE
SUMMARY:Harry Potter D&D
DESCRIPTION:Kids and teens (ages 9-18)! Have you always wanted to be a wizard? Well\, here's your chance! Join us for this extra-long\, one-session-only game of Harry Potter D&D set at Hogwarts. Costumes are suggested but not required.
X-ALT-DESC;FMTTYPE=text/html:Kids and teens (ages 9-18)! Have you always wanted to be a wizard? Well\, here&rsquo\;s your chance! Join us for this extra-long\, one-session-only game of Harry Potter D&amp\;D set at Hogwarts. Costumes are suggested but not required.
LOCATION:Fort Bragg Library 499 E Laurel St Fort Bragg\, CA 95437
UID:e.2883.11767
SEQUENCE:3
DTSTAMP:20260422T080743Z
URL:http://mendocinocoast.smartcms.site/events/details/harry-potter-d-d-11767
END:VEVENT

END:VCALENDAR
