BEGIN:VCALENDAR
VERSION:2.0
PRODID:-//ChamberMaster//Event Calendar 2.0//EN
METHOD:PUBLISH
X-PUBLISHED-TTL:P3D
REFRESH-INTERVAL:P3D
CALSCALE:GREGORIAN
BEGIN:VEVENT
DTSTART:20161012T120000Z
DTEND:20161012T110000Z
X-MICROSOFT-CDO-ALLDAYEVENT:FALSE
SUMMARY:Harmonies: A Celebration of Connection and Communion
DESCRIPTION:The world as interpreted by Bay Area artist Jeanie Dooha springs to  life: wrinkled skin nuzzles silken fur. Father and daughter tenderly  embrace. Golden\, sienna and ebony fingers strum\, tap and plunk upon  strings\, drumheads and keys â€“ creating in unison or in alternating tones  music to soothe and to stimulate. Burnett Gallery\, free\, Opening Reception Friday\, November 4.
X-ALT-DESC;FMTTYPE=text/html:<p>The world as interpreted by Bay Area artist Jeanie Dooha springs to  life: wrinkled skin nuzzles silken fur. Father and daughter tenderly  embrace. Golden\, sienna and ebony fingers strum\, tap and plunk upon  strings\, drumheads and keys â€“ creating in unison or in alternating tones  music to soothe and to stimulate. Burnett Gallery\, free\, Opening Reception Friday\, November 4.</p>
LOCATION:Gualala Arts Center
UID:e.2883.1037
SEQUENCE:3
DTSTAMP:20260424T160446Z
URL:http://mendocinocoast.smartcms.site/events/details/harmonies-a-celebration-of-connection-and-communion-10-12-2016-1037
END:VEVENT

END:VCALENDAR
