BEGIN:VCALENDAR
VERSION:2.0
PRODID:-//ChamberMaster//Event Calendar 2.0//EN
METHOD:PUBLISH
X-PUBLISHED-TTL:P3D
REFRESH-INTERVAL:P3D
CALSCALE:GREGORIAN
BEGIN:VEVENT
DTSTART:20160822T190000Z
DTEND:20160823T010000Z
X-MICROSOFT-CDO-ALLDAYEVENT:FALSE
SUMMARY:Harbor & Seafood Festival
DESCRIPTION:Â 17th Annual Harbor & Seafood FestivalSunday September 4 â€“ Noon to 6pm â€“ Point Arena PierAnnual Fundraiser for the Pier Repair & Replacement FundThis is an event that you donâ€™t want to miss: a perfect setting with amazing food\, stunning views\, great company and all for a good cause â€“ to raise money to keep our local pier operating all year long!This yearâ€™s â€œHarborfestâ€ menu features oysters\, albacore kebabs\, fish tacos\, abalone cakes\, fresh salad from Oz Farm and desserts by ACORN Partners in Education.Libations include craft beer courtesy of North Coast Brewery\, wines from Pacini Vineyard and non-alcoholic beverages including homemade lemonade.This yearâ€™s bands include local faves Groove Factor and Ampage as well as New Orleans-based piano-man Nelson Lunding and Bay Area musician Lyle Ryan who will lead the crowd in singing sea shanties!The kids area hosts a bouncy house\, face painting and a sea-themed sidewalk chalk art competition.Â There is no entry fee and parking is free. Bring the kids\, but please leave the dogs at home.Â For more information or to get involved please call Point Arena City Hall at 882-2122.Â
X-ALT-DESC;FMTTYPE=text/html:<p>Â </p><div><span style="font-size:x-small\;"></span><p><span style="font-size:small\;"><strong>17<sup>th</sup> Annual Harbor &amp\; Seafood Festival</strong></span></p><p><strong>Sunday September 4 â€“ Noon to 6pm â€“ Point Arena Pier</strong></p><p>Annual Fundraiser for the Pier Repair &amp\; Replacement Fund</p><p>This is an event that you donâ€™t want to miss: a perfect setting with amazing food\, stunning views\, great company and all for a good cause â€“ to raise money to keep our local pier operating all year long!</p><p>This yearâ€™s â€œHarborfestâ€ menu features oysters\, albacore kebabs\, fish tacos\, abalone cakes\, fresh salad from Oz Farm and desserts by ACORN Partners in Education.</p><p>Libations include craft beer courtesy of North Coast Brewery\, wines from Pacini Vineyard and non-alcoholic beverages including homemade lemonade.</p><p>This yearâ€™s bands include local faves Groove Factor and Ampage as well as New Orleans-based piano-man Nelson Lunding and Bay Area musician Lyle Ryan who will lead the crowd in singing sea shanties!</p><p>The kids area hosts a bouncy house\, face painting and a sea-themed sidewalk chalk art competition.</p><p>Â </p><p>There is no entry fee and parking is free. Bring the kids\, but please leave the dogs at home.</p><p>Â </p><p>For more information or to get involved please call Point Arena City Hall at 882-2122.</p><p>Â </p></div>
LOCATION:Point Arena Pier
UID:e.2883.1005
SEQUENCE:3
DTSTAMP:20260424T193252Z
URL:http://mendocinocoast.smartcms.site/events/details/harbor-seafood-festival-08-22-2016-1005
END:VEVENT

END:VCALENDAR
