BEGIN:VCALENDAR
VERSION:2.0
PRODID:-//ChamberMaster//Event Calendar 2.0//EN
METHOD:PUBLISH
X-PUBLISHED-TTL:P3D
REFRESH-INTERVAL:P3D
CALSCALE:GREGORIAN
BEGIN:VEVENT
DTSTART:20190616T000000Z
DTEND:20190616T020000Z
X-MICROSOFT-CDO-ALLDAYEVENT:FALSE
SUMMARY:Happy Fathers Day
DESCRIPTION:Join Us for a Fabulous Fathers Day Dinner. Sal's Bistro At the Redwood Coast Senior Center invites you.We will be serving a choice of Rib Eye Pepper Steak or Chicken Cordon Bleu.Both Entrees served with Baked Potato.corn on the Cob and salad. Dessert is Apple pie al a mode. Dineer served from 5-7 pm Tickets $25.00 at the Door $30.00
X-ALT-DESC;FMTTYPE=text/html:Join Us for a Fabulous Fathers Day Dinner. Sal&#39\;s Bistro At the Redwood Coast Senior Center invites you.We will be serving a choice of Rib Eye Pepper Steak or Chicken Cordon Bleu.Both Entrees served with Baked Potato.corn on the Cob and salad. Dessert is Apple pie al a mode. Dineer served from 5-7 pm Tickets $25.00 at the Door $30.00
LOCATION:490 N Harold St Fort Bragg
UID:e.2883.11688
SEQUENCE:3
DTSTAMP:20260422T094037Z
URL:http://mendocinocoast.smartcms.site/events/details/happy-fathers-day-11688
END:VEVENT

END:VCALENDAR
