BEGIN:VCALENDAR
VERSION:2.0
PRODID:-//ChamberMaster//Event Calendar 2.0//EN
METHOD:PUBLISH
X-PUBLISHED-TTL:P3D
REFRESH-INTERVAL:P3D
CALSCALE:GREGORIAN
BEGIN:VEVENT
DTSTART:20171109T020000Z
DTEND:20171109T040000Z
X-MICROSOFT-CDO-ALLDAYEVENT:FALSE
SUMMARY:West Company Workshop: Hands on QuickBooks Training
DESCRIPTION:In this workshop you will learn the basics of Quickbooks Book Online (QBO) operations including how to properly create a QBO account for your business and set up all banking transactions. With QuickBooks learn how to easily create professional looking invoices\, bill pay\, customer and vendor lists\, and accounts receivable and payable.\n\nIn this workshop you will learn:\n\n\n	How to properly set up an account\n	How to connect bank transactions/Import bank statements\n	How to categorize and reconcile accounts (accepting transactions)\n	Setting up a chart of accounts\n	Understanding the balance sheet\n	Understanding the your profit and loss\n	Understanding cash flows
X-ALT-DESC;FMTTYPE=text/html:<p>In this workshop you will learn the basics of Quickbooks Book Online (QBO) operations including how to properly create a QBO account for your business and set up all banking transactions. With QuickBooks learn how to easily create professional looking invoices\, bill pay\, customer and vendor lists\, and accounts receivable and payable.</p>\n\n<p>In this workshop you will learn:</p>\n\n<ul>\n	<li>How to properly set up an account</li>\n	<li>How to connect bank transactions/Import bank statements</li>\n	<li>How to categorize and reconcile accounts (accepting transactions)</li>\n	<li>Setting up a chart of accounts</li>\n	<li>Understanding the balance sheet</li>\n	<li>Understanding the your profit and loss</li>\n	<li>Understanding cash flows</li>\n</ul>\n
LOCATION:West Company Coast Office 760 B Stewart Street Fort Bragg\, CA 95437
UID:e.2883.4450
SEQUENCE:3
DTSTAMP:20260423T190331Z
URL:http://mendocinocoast.smartcms.site/events/details/hands-on-quickbooks-training-4450
END:VEVENT

END:VCALENDAR
