BEGIN:VCALENDAR
VERSION:2.0
PRODID:-//ChamberMaster//Event Calendar 2.0//EN
METHOD:PUBLISH
X-PUBLISHED-TTL:P3D
REFRESH-INTERVAL:P3D
CALSCALE:GREGORIAN
BEGIN:VEVENT
DTSTART:20191026T200000Z
DTEND:20191026T230000Z
X-MICROSOFT-CDO-ALLDAYEVENT:FALSE
SUMMARY:Halloween Bash and Pumpkin Splash
DESCRIPTION:Come spend an afternoon of Family Fun! Decorate a cookie\, walk through a not so scary haunted house\, and swim for a pumpkin in our AQUATIC PUMPKIN PATCH!Pumpkins for the first 100 participants. All ages welcome Saturday Oct 26 1:00-4:00pm Regular Drop In fee or FREE for members when you scan in! BIG THANK YOU MENDOCINO PRODUCE FOR DONATING THE PUMPKINS
X-ALT-DESC;FMTTYPE=text/html:Come spend an afternoon of Family Fun! Decorate a cookie\, walk through a not so scary haunted house\, and swim for a pumpkin in our AQUATIC PUMPKIN PATCH!Pumpkins for the first 100 participants. All ages welcome Saturday Oct 26 1:00-4:00pm Regular Drop In fee or FREE for members when you scan in! BIG THANK YOU MENDOCINO PRODUCE FOR DONATING THE PUMPKINS
LOCATION:C. V. Starr Community Center
UID:e.2883.12438
SEQUENCE:3
DTSTAMP:20260422T024547Z
URL:http://mendocinocoast.smartcms.site/events/details/halloween-bash-and-pumpkin-splash-12438
END:VEVENT

END:VCALENDAR
