BEGIN:VCALENDAR
VERSION:2.0
PRODID:-//ChamberMaster//Event Calendar 2.0//EN
METHOD:PUBLISH
X-PUBLISHED-TTL:P3D
REFRESH-INTERVAL:P3D
CALSCALE:GREGORIAN
BEGIN:VEVENT
DTSTART:20180304T033000Z
DTEND:20180304T063000Z
X-MICROSOFT-CDO-ALLDAYEVENT:FALSE
SUMMARY:Gwyneth Moreland\, The Real Sarahs
DESCRIPTION:An evening with two treasures of Mendocino County's lively acoustic music scene: renowned singer-songwriter Gwyneth Moreland\, and relative newcomers\, trio The Real Sarahs. All ages welcome\, no-host beer/wine bar. Fundraiser for the Community Center of Mendocino and the After School Enrichment Program. Tickets at ccmendo.org\, Out Of This World (Mendocino) and Harvest (Fort Bragg).
X-ALT-DESC;FMTTYPE=text/html:An evening with two treasures of Mendocino County&#39\;s lively acoustic music scene: renowned singer-songwriter Gwyneth Moreland\, and relative newcomers\, trio The Real Sarahs. All ages welcome\, no-host beer/wine bar. Fundraiser for the Community Center of Mendocino and the After School Enrichment Program. Tickets at ccmendo.org\, Out Of This World (Mendocino) and Harvest (Fort Bragg).
LOCATION:Community Center of Mendocino 998 School Street Mendocino\, CA 95460
UID:e.2883.5534
SEQUENCE:3
DTSTAMP:20260423T110126Z
URL:http://mendocinocoast.smartcms.site/events/details/gwyneth-moreland-the-real-sarahs-5534
END:VEVENT

END:VCALENDAR
