BEGIN:VCALENDAR
VERSION:2.0
PRODID:-//ChamberMaster//Event Calendar 2.0//EN
METHOD:PUBLISH
X-PUBLISHED-TTL:P3D
REFRESH-INTERVAL:P3D
CALSCALE:GREGORIAN
BEGIN:VEVENT
DTSTART:20171007T160000Z
DTEND:20171007T190000Z
X-MICROSOFT-CDO-ALLDAYEVENT:FALSE
SUMMARY:Gualala River Run 5/10K\, 5K Fun Walk and Virtual Race
DESCRIPTION:5K and 10K Competitive Runs\, 5K Fun Walk and new Virtual (no run) Run GRReat Raffle Brunch following - Burrito Buffet
X-ALT-DESC;FMTTYPE=text/html:5K and 10K Competitive Runs\, 5K Fun Walk and new Virtual (no run) Run GRReat Raffle Brunch following - Burrito Buffet
LOCATION:Gualala Road\, Gualala\, CA 95445 Start/Finish at Redwood Arts Center\,
UID:e.2883.4394
SEQUENCE:3
DTSTAMP:20260423T201247Z
URL:http://mendocinocoast.smartcms.site/events/details/gualala-river-run-5-10k-5k-fun-walk-and-virtual-race-4394
END:VEVENT

END:VCALENDAR
