BEGIN:VCALENDAR
VERSION:2.0
PRODID:-//ChamberMaster//Event Calendar 2.0//EN
METHOD:PUBLISH
X-PUBLISHED-TTL:P3D
REFRESH-INTERVAL:P3D
CALSCALE:GREGORIAN
BEGIN:VEVENT
DTSTART:20191012T163000Z
DTEND:20191012T190000Z
X-MICROSOFT-CDO-ALLDAYEVENT:FALSE
SUMMARY:Gualala River Run
DESCRIPTION:A 10K\, 5K Color Fun Run/Walk is an out and back course that follows the scenic Gualala River along a paved road through a majestic redwood forest. Color Run option - please expect splashes of color to be sprayed at each mile marker on one side of the course. Kids Dash - Children 8 and under run the first 500 meters. Finishers will have an option to be sprayed with color at the finish line. They will also win a unique medal and commemorative shirt.
X-ALT-DESC;FMTTYPE=text/html:A 10K\, 5K Color Fun Run/Walk is an out and back course that follows the scenic Gualala River along a paved road through a majestic redwood forest. Color Run option - please expect splashes of color to be sprayed at each mile marker on one side of the course. Kids Dash - Children 8 and under run the first 500 meters. Finishers will have an option to be sprayed with color at the finish line. They will also win a unique medal and commemorative shirt.
LOCATION:Gualala Arrts Center 46501 Gualala Road Gualalal\, CA
UID:e.2883.11846
SEQUENCE:3
DTSTAMP:20260422T025339Z
URL:http://mendocinocoast.smartcms.site/events/details/gualala-river-run-11846
END:VEVENT

END:VCALENDAR
