BEGIN:VCALENDAR
VERSION:2.0
PRODID:-//ChamberMaster//Event Calendar 2.0//EN
METHOD:PUBLISH
X-PUBLISHED-TTL:P3D
REFRESH-INTERVAL:P3D
CALSCALE:GREGORIAN
BEGIN:VEVENT
DTSTART:20190404T020000Z
DTEND:20190404T043000Z
X-MICROSOFT-CDO-ALLDAYEVENT:FALSE
SUMMARY:Goodfellas - Classic Film Series
DESCRIPTION:Mendocino Film Festival continues the monthly Classic Film Series with Martin Scorsese's epic Goodfellas. Based on a biography documenting life in the mob\, compelling performances from an all-star cast led by Ray Liotta\, Robert De Niro and Lorraine Bracco drive this brutal yet darkly funny narrative. Nominated for six Oscars \, with a win for Joe Pesci for best supporting actor\, and named one of the AFI's top 100 American movies\, this instant classic would forever change the rules for gangster films to come. Ranked #17 on IMDB's best films of all time\, 96% on Rotten Tomatoes and #1 on Rolling Stones best films of the nineties\, this film truly should be experienced on the big screen.\n\nTickets will also be on sale in advance at Coast Cinema starting Monday\, March 19th - CASH ONLY.\n\nOnline sales.\n* RATED R - Restricted: Under 17 requires accompanying parent or adult guardian.\n\n* IMPORTANT: Ticket holders must arrive no later than ten minutes prior to show time to be guaranteed a seat. Anyone arriving less than 10 minutes prior to show time will not be guaranteed a seat\, even if they have purchased a ticket. There are no exchanges or refunds.\n\n\n\nThanks to the film sponsors Cucina Verona and Coast Hardware and our media sponsor KOZT FM.
X-ALT-DESC;FMTTYPE=text/html:<p><span style="background-color:transparent\; color:#000000\; font-family:arial\; font-size:11pt"><strong>Mendocino Film Festival continues the monthly Classic Film Series with Martin Scorsese&rsquo\;s epic <em>Goodfellas</em>.</strong> Based on a biography documenting life in the mob\, compelling performances from an all-star cast led by Ray Liotta\, Robert De Niro and Lorraine Bracco drive this brutal yet darkly funny narrative. Nominated for six Oscars&reg\;\, with a win for Joe Pesci for best supporting actor\, and named one of the AFI&#39\;s top 100 American movies\, this instant classic would forever change the rules for gangster films to come. Ranked #17 on IMDB&rsquo\;s best films of all time\, 96% on Rotten Tomatoes and #1 on Rolling Stones best films of the nineties\, this film truly should be experienced on the big screen.</span></p>\n\n<p><span style="background-color:transparent\; color:#000000\; font-family:arial\; font-size:11pt">Tickets will also be on sale in advance at Coast Cinema starting Monday\, March 19th - CASH ONLY.<br />\n<a href="https://www.eventbrite.com/e/goodfellas-classic-film-series-coast-cinema-tickets-58460581172">Online sales</a></span><a href="https://www.eventbrite.com/e/goodfellas-classic-film-series-coast-cinema-tickets-58460581172">.</a></p>\n<span style="background-color:transparent\; color:#000000\; font-family:arial\; font-size:11pt">* <u>RATED R</u> - Restricted: Under 17 requires accompanying parent or adult guardian.</span><br />\n<span style="background-color:transparent\; color:#000000\; font-family:arial\; font-size:11pt">* <u>IMPORTANT</u>: Ticket holders must arrive no later than ten minutes prior to show time to be guaranteed a seat. Anyone arriving less than 10 minutes prior to show time will not be guaranteed a seat\, even if they have purchased a ticket. There are no exchanges or refunds.</span><br />\n<br />\n<span style="background-color:transparent\; color:#000000\; font-family:arial\; font-size:11pt">Thanks to the film sponsors Cucina Verona and Coast Hardware and our media sponsor KOZT FM.</span>
LOCATION:Coast Cinema 135 S. Franklin Street\, Fort Bragg CA 95437
UID:e.2883.11333
SEQUENCE:3
DTSTAMP:20260422T125439Z
URL:http://mendocinocoast.smartcms.site/events/details/goodfellas-classic-film-series-11333
END:VEVENT

END:VCALENDAR
