BEGIN:VCALENDAR
VERSION:2.0
PRODID:-//ChamberMaster//Event Calendar 2.0//EN
METHOD:PUBLISH
X-PUBLISHED-TTL:P3D
REFRESH-INTERVAL:P3D
CALSCALE:GREGORIAN
BEGIN:VEVENT
DTSTART:20190706T000000Z
DTEND:20190706T030000Z
X-MICROSOFT-CDO-ALLDAYEVENT:FALSE
SUMMARY:Gloriana's Really Rosie Auditions
DESCRIPTION:REALLY ROSIE AUDITIONS\n\nFriday\, July 5th\, 5-8 pm and Saturday July 6th\, 10am-12pm. Location TBA.\n\nAUDITION REQUIREMENTS\n\n\n	\n	Please prepare a song that shows your range.\n	\n	\n	Please bring a headshot\n	\n	\n	Please prepare a 1 minute monologue and show the choreographer you can move\n	\n	\n	You must note all conflicts for rehearsals on your audition form\n	\n	\n	You must be available for all rehearsals during the last two weeks before opening night\n	\n	\n	You must be available for all performances\n	\n\n\nPLOT: Rosie\, the sassiest kid on her block of Brooklyn's Avenue P\, entertains herself and her friends by acting out showbiz fantasies\, notably directing and starring in an Oscar-winning movie. The musical is based on Sendak's books Chicken Soup with Rice\, Pierre\, One was Johnny\, Alligators All Around (which comprise 1962's The Nutshell Library)\, and The Sign on Rosie's Door (1960). More information available here.\n\n\n\nCASTING: Girls and Boys ages 10 - 13.\n\n\n\nPERFORMANCES: October 4 - 20. Performances on Friday and Saturday evenings at 7:30 and Sunday matinees at 3:00. 9 performances.
X-ALT-DESC;FMTTYPE=text/html:<p><strong><em>REALLY ROSIE </em>AUDITIONS</strong></p>\n\n<p>Friday\, July 5th\, 5-8 pm and Saturday July 6th\, 10am-12pm. Location TBA.</p>\n\n<p><strong>AUDITION REQUIREMENTS</strong></p>\n\n<ul>\n	<li>\n	<p>Please prepare a song that shows your range.</p>\n	</li>\n	<li>\n	<p>Please bring a headshot</p>\n	</li>\n	<li>\n	<p>Please prepare a 1 minute monologue and show the choreographer you can move</p>\n	</li>\n	<li>\n	<p>You must note all conflicts for rehearsals on your audition form</p>\n	</li>\n	<li>\n	<p>You must be available for all rehearsals during the last two weeks before opening night</p>\n	</li>\n	<li>\n	<p>You must be available for all performances</p>\n	</li>\n</ul>\n\n<p><strong>PLOT:&nbsp\;</strong>Rosie\, the sassiest kid on her block of Brooklyn&rsquo\;s Avenue P\, entertains herself and her friends by acting out showbiz fantasies\, notably directing and starring in an Oscar-winning movie.&nbsp\;The musical is based on Sendak&#39\;s books&nbsp\;<em>Chicken Soup with Rice</em>\,&nbsp\;<em>Pierre</em>\,&nbsp\;<em>One was Johnny</em>\,&nbsp\;<em>Alligators All Around</em>&nbsp\;(which comprise 1962&#39\;s&nbsp\;<em>The Nutshell Library</em>)\, and&nbsp\;<em>The Sign on Rosie&#39\;s Door</em>&nbsp\;(1960). More information <a href="https://www.samuelfrench.com/p/2168/really-rosie" style="background: transparent\; color: rgb(204\, 177\, 5)\; text-decoration-line: none\; overflow-wrap: break-word\;" target="_blank">available here</a>.<br />\n<br />\n<strong>CASTING: </strong>Girls and Boys ages 10 - 13.<br />\n<br />\n<strong>PERFORMANCES: </strong>October 4 - 20. Performances on Friday and Saturday evenings at 7:30 and Sunday matinees at 3:00. 9 performances.</p>\n
LOCATION:Eagles Hall\, 210 N Corry\, Fort Bragg
UID:e.2883.11726
SEQUENCE:3
DTSTAMP:20260422T080110Z
URL:http://mendocinocoast.smartcms.site/events/details/gloriana-s-really-rosie-auditions-11726
END:VEVENT

END:VCALENDAR
