BEGIN:VCALENDAR
VERSION:2.0
PRODID:-//ChamberMaster//Event Calendar 2.0//EN
METHOD:PUBLISH
X-PUBLISHED-TTL:P3D
REFRESH-INTERVAL:P3D
CALSCALE:GREGORIAN
BEGIN:VEVENT
DTSTART;VALUE=DATE:20170316
DTEND;VALUE=DATE:20170317
TRANSP:TRANSPARENT
X-MICROSOFT-CDO-ALLDAYEVENT:TRUE
SUMMARY:Gloriana's 100 Years of Broadway!
DESCRIPTION:Celebrate the history of Broadway and our great heritage of musical theater in this marvelous showcase of over 100 years of Broadway. This is a limited engagement that you wonâ€™t want to miss. Performances begin at Eagles Hall in Fort Bragg from April 21 - 30 on Friday and Saturday evenings at 7:30 and Sunday matinees at 3:00. Special preview night on Thursday\, April 20 at 7:30\, tickets half off!Â From the music of Tin Pan Alley to state-of-the-art contemporary Broadway\, you'll treasure the magic of an entire century of entertainment\, laughter\, and beautiful music! Featuring songs from Les Miserables\, Show Boat\, Gypsy\, Wicked\, West Side Story\, Phantom of the Opera and more!Â Admission is $22 for the general public\, $20 for Seniors and $12 for youth (17 and under). Tickets may be purchased online at gloriana.org\, at Harvest Market in Fort Bragg or at the door of Eagles Hall Theatre prior to each performance.Â For more information\, visit Gloriana.org or call 707-964-SHOW.
X-ALT-DESC;FMTTYPE=text/html:<p>Celebrate the history of Broadway and our great heritage of musical theater in this marvelous showcase of over 100 years of Broadway. This is a limited engagement that you wonâ€™t want to miss. Performances begin at Eagles Hall in Fort Bragg from April 21 - 30 on Friday and Saturday evenings at 7:30 and Sunday matinees at 3:00. Special preview night on Thursday\, April 20 at 7:30\, tickets half off!</p><p>Â </p><p>From the music of Tin Pan Alley to state-of-the-art contemporary Broadway\, you'll treasure the magic of an entire century of entertainment\, laughter\, and beautiful music! Featuring songs from Les Miserables\, Show Boat\, Gypsy\, Wicked\, West Side Story\, Phantom of the Opera and more!</p><p>Â </p><p>Admission is $22 for the general public\, $20 for Seniors and $12 for youth (17 and under). Tickets may be purchased online at gloriana.org\, at Harvest Market in Fort Bragg or at the door of Eagles Hall Theatre prior to each performance.</p><p>Â </p><p>For more information\, visit Gloriana.org or call 707-964-SHOW.</p>
LOCATION:Eagles Hall Theatre Fort Bragg
UID:e.2883.1158
SEQUENCE:3
DTSTAMP:20260424T080003Z
URL:http://mendocinocoast.smartcms.site/events/details/gloriana-s-100-years-of-broadway-03-16-2017-1158
END:VEVENT

END:VCALENDAR
