BEGIN:VCALENDAR
VERSION:2.0
PRODID:-//ChamberMaster//Event Calendar 2.0//EN
METHOD:PUBLISH
X-PUBLISHED-TTL:P3D
REFRESH-INTERVAL:P3D
CALSCALE:GREGORIAN
BEGIN:VEVENT
DTSTART:20191014T023000Z
DTEND:20191014T033000Z
X-MICROSOFT-CDO-ALLDAYEVENT:FALSE
SUMMARY:Gloriana presents Really Rosie
DESCRIPTION:Do you have an appetite for some satisfying family fun? Come enjoy some "Chicken Soup with Rice" on "Avenue P" with this year's Young Performers production of Really Rosie!\n\nOpening October 4th is the genius collaboration from the writers of Where the Wild Things Are and Beautiful. Really Rosie is based on Maurice Sendak's timeless children's books with a score by Carole King. In this upbeat and imaginative musical\, Rosie\, the self-proclaimed sassiest kid on the block\, entertains her friends by producing an imaginary movie based on the exciting\, dramatic\, funny (and slightly exaggerated) story of her life.\n\nBefore Really Rosie became a stage production\, the Carole King-Maurice Sendak collaboration was a beloved half-hour cartoon television special. Inspired by Sendak's Nutshell Library series of children's books\, the work musicalized classics like "Pierre\," "Alligators All Around\," "One Was Johnny\," and\, perhaps the best known\, "Chicken Soup With Rice."\n\nReally Rosie runs October 4th through 20th at Eagles Hall in Fort Bragg. Show times are Friday-Saturday at 7:30\, and Sunday at 3:00. It runs approximately 60 minutes with no intermission. Tickets are just $18 for adults\, $16 for seniors\, $10 for youth (17 and under) and children under 5 are free. Tickets can be purchased by visiting www.gloriana.org or Harvest Market in Fort Bragg.
X-ALT-DESC;FMTTYPE=text/html:<p>Do you have an appetite for some satisfying family fun? Come enjoy some &ldquo\;Chicken Soup with Rice&rdquo\; on &ldquo\;Avenue P&rdquo\; with this year&rsquo\;s Young Performers production of <em>Really Rosie</em>!</p>\n\n<p>Opening October 4th is the genius collaboration from the writers of <em>Where the Wild Things Are </em>and <em>Beautiful</em>. <em>Really Rosie </em><em>i</em>s based on Maurice Sendak&rsquo\;s timeless children&rsquo\;s books with a score by Carole King. In this upbeat and imaginative musical\, Rosie\, the self-proclaimed sassiest kid on the block\, entertains her friends by producing an imaginary movie based on the exciting\, dramatic\, funny (and slightly exaggerated) story of her life.</p>\n\n<p>Before <em>Really Rosie </em>became a stage production\, the Carole King-Maurice Sendak collaboration was a beloved half-hour cartoon television special. Inspired by Sendak&#39\;s <em>Nutshell Library </em>series of children&#39\;s books\, the work musicalized classics like &quot\;Pierre\,&quot\; &quot\;Alligators All Around\,&quot\; &quot\;One Was Johnny\,&quot\; and\, perhaps the best known\, &quot\;Chicken Soup With Rice.&quot\;</p>\n\n<p><em>Really Rosie </em>runs October 4th through 20th at Eagles Hall in Fort Bragg. Show times are Friday-Saturday at 7:30\, and Sunday at 3:00. It runs approximately 60 minutes with no intermission. Tickets are just $18 for adults\, $16 for seniors\, $10 for youth (17 and under) and children under 5 are free. Tickets can be purchased by visiting www.gloriana.org or Harvest Market in Fort Bragg.</p>\n
LOCATION:Eagles Hall in Fort Bragg
UID:e.2883.11974
SEQUENCE:3
DTSTAMP:20260422T024749Z
URL:http://mendocinocoast.smartcms.site/events/details/gloriana-presents-really-rosie-10-13-2019-11974
END:VEVENT

END:VCALENDAR
