BEGIN:VCALENDAR
VERSION:2.0
PRODID:-//ChamberMaster//Event Calendar 2.0//EN
METHOD:PUBLISH
X-PUBLISHED-TTL:P3D
REFRESH-INTERVAL:P3D
CALSCALE:GREGORIAN
BEGIN:VEVENT
DTSTART;VALUE=DATE:20170727
DTEND;VALUE=DATE:20170814
TRANSP:TRANSPARENT
X-MICROSOFT-CDO-ALLDAYEVENT:TRUE
SUMMARY:Gloriana Presents: CHICAGO
DESCRIPTION:Gloriana Musical Theatre is pleased to announce its production of CHICAGO! Directed by David Strock.\n\nOne of Broadway's longest-running American musicals\, Chicago is a dazzling and satirical look at fame\, justice\, and the media machine. Chicago follows Roxie Hart (played by Blare Elliott)\, a wannabe vaudevillian star who murders her lover and is arrested. In the Cook County Jail\, Roxie meets her hero\, the famed double-murderess and nightclub performer Velma Kelly (played by Alexis Eich). When both acquire the same lawyer\, the greedy and lustful superstar\, Billy Flynn (played by Jeffrey Grant)\, tensions come to a head as they vie for the spotlight and the flashbulb of the newspaper reporters. With catchy\, sexy music and timeless lyrics by John Kander and Fred Ebb\, and a funny\, intelligent\, and utterly engaging book by Kander and Bob Fosse\, Chicago is a musical spectacular that is as unforgettable as any trial of the century.
X-ALT-DESC;FMTTYPE=text/html:<p style="margin: 0px\; border: 0px none\; padding: 0px\; font-family: Verdana\, Arial\; font-size: 11px\;"><span style="font-size:14px\;"><span style="font-family:arial\;"><span style="margin: 0px\;"><span style="margin: 0px\;"><span style="margin: 0px\;">Gloriana Musical Theatre is pleased to announce its production of CHICAGO! Directed by David Strock.</span></span></span></span></span></p>\n\n<p style="margin: 0px\; border: 0px none\; padding: 0px\; font-family: Verdana\, Arial\; font-size: 11px\;"><span style="font-size:14px\;"><span style="font-family:arial\;"><span style="margin: 0px\;"><span style="margin: 0px\;"><span style="margin: 0px\;">One of&nbsp\;</span></span></span><span style="margin: 0px\;"><span style="margin: 0px\;"><span style="margin: 0px\;">Broadway&rsquo\;s longest-running American musical</span></span></span><span style="margin: 0px\;"><span style="margin: 0px\;"><span style="margin: 0px\;">s</span></span></span><span style="margin: 0px\;"><span style="margin: 0px\;"><span style="margin: 0px\;">\,&nbsp\;</span></span></span><em style="margin: 0px\;"><span style="margin: 0px\;"><span style="margin: 0px\;"><span style="margin: 0px\;">Chicago</span></span></span></em><span style="margin: 0px\;"><span style="margin: 0px\;"><span style="margin: 0px\;">&nbsp\;is a dazzling and satirical look at fame\, justice\, and the media machine.&nbsp\;</span></span></span><em style="margin: 0px\;"><span style="margin: 0px\;"><span style="margin: 0px\;"><span style="margin: 0px\;">Chicago</span></span></span></em><span style="margin: 0px\;"><span style="margin: 0px\;"><span style="margin: 0px\;">&nbsp\;follows Roxie Hart (played by Blare Elliott)\, a wannabe vaudevillian star who murders her lover and is arrested. In the Cook County Jail\, Roxie meets her hero\, the famed double-murderess and nightclub performer Velma Kelly (played by Alexis Eich). When both acquire the same lawyer\, the greedy and lustful superstar\, Billy Flynn (played by Jeffrey Grant)\, tensions come to a head as they vie for the spotlight and the flashbulb of the newspaper reporters. With catchy\, sexy music and timeless lyrics by John Kander and Fred Ebb\, and a funny\, intelligent\, and utterly engaging book by Kander and Bob Fosse\,&nbsp\;</span></span></span><em style="margin: 0px\;"><span style="margin: 0px\;"><span style="margin: 0px\;"><span style="margin: 0px\;">Chicago</span></span></span></em><span style="margin: 0px\;"><span style="margin: 0px\;"><span style="margin: 0px\;">&nbsp\;is a musical spectacular that is as unforgettable as any trial of the century.</span></span></span></span></span></p>\n
LOCATION:The show will be performed at Eagles Hall Theatre
UID:e.2883.1528
SEQUENCE:3
DTSTAMP:20260423T232527Z
URL:http://mendocinocoast.smartcms.site/events/details/gloriana-presents-chicago-1528
END:VEVENT

END:VCALENDAR
