BEGIN:VCALENDAR
VERSION:2.0
PRODID:-//ChamberMaster//Event Calendar 2.0//EN
METHOD:PUBLISH
X-PUBLISHED-TTL:P3D
REFRESH-INTERVAL:P3D
CALSCALE:GREGORIAN
BEGIN:VEVENT
DTSTART:20160920T023000Z
DTEND:20160919T230600Z
X-MICROSOFT-CDO-ALLDAYEVENT:FALSE
SUMMARY:Gloriana Musical Theatre presents CINDERELLA
DESCRIPTION:Gloriana Musical Theatre announces its production of â€œCinderella\,â€Â the classic musical with music by Richard Rodgers and lyrics and book by Oscar Hammerstein II.The show will be performed at Eagles Hall Theatre from October 28 to November 13 with performances at 7:30 p.m on Fridays and Saturdays and Sunday matinees beginning at 3 p.m.The story concerns a young woman forced into a life of servitude by her cruel stepmother and self-centered stepsisters\, who dreams of a better life. With the help of her Fairy Godmother\, Cinderella is transformed into a Princess and finds her Prince. Originally presented on television in 1957 starring Julie Andrews\, Rodgers & Hammerstein's Cinderella was the most widely viewed program in the history of the medium. Adapted for the stage\, with great warmth and more than a touch of hilarity\, the hearts of children and adults alike still soar when the slipper fits.Admission is $18 for the general public\, $15 for Seniors and $8 for youth (17 and under). Tickets may be purchased online at gloriana.org\, at Harvest Market in Fort Bragg or at the door of Eagles Hall Theatre prior to each performance. Advanced tickets available at gloriana.org.Special preview night on Thursday October 27 at 7:30. Tickets discounted and only available at the door\, so get there early!Be sure to join us for our Gala performance! On Sunday\, October 30th following the performance celebrate with the cast and crew and enjoy wonderful delights and treats! Tickets are $20 for general\, $17 for Seniors and $10 for youth (17 and under).For more information\, visit Gloriana.org or call 707-964-SHOW.
X-ALT-DESC;FMTTYPE=text/html:<p><span>Gloriana Musical Theatre announces its production of â€œCinderella\,â€Â the classic musical with music by Richard Rodgers and lyrics and book by Oscar Hammerstein II.</span></p><p><span>The show will be performed at Eagles Hall Theatre from October 28 to November 13 with performances at 7:30 p.m on Fridays and Saturdays and Sunday matinees beginning at 3 p.m.</span></p><p><span><span>The story concerns a young woman forced into a life of servitude by her cruel stepmother and self-centered stepsisters\, who dreams of a better life. With the help of her </span><a href="https://en.wikipedia.org/wiki/Fairy_Godmother"><span>Fairy Godmother</span></a><span>\, Cinderella is transformed into a Princess and finds her Prince. </span><span>Originally presented on television in 1957 starring Julie Andrews\, Rodgers &amp\; Hammerstein's </span><span><em>C</em></span><span><em>inderella</em></span><span> was the most widely viewed program in the history of the medium. </span><span>A</span><span>dapted for the stage\, with great warmth and more than a touch of hilarity\, the hearts of children and adults alike still soar when the slipper fits.</span></span></p><p><span><span>Admission is $</span><span>18</span><span> for the general public\, $</span><span>15</span><span> for Seniors and $</span><span>8</span><span> for youth (17 and under). Tickets may be purchased online at </span><a href="http://gloriana.org/" target="_blank"><span>gloriana.org</span></a><span>\, at Harvest Market in Fort Bragg or at the door of Eagles Hall Theatre prior to each performance. Advanced tickets available at </span><a href="http://gloriana.org/" target="_blank"><span>gloriana.org</span></a><span>.</span></span></p><p><span>Special preview night on </span>Thursday<span> October 27 at 7:30. Tickets discounted and only available at the door\, so get there early!</span></p><p><span><span>Be sure to join us for our Gala performance</span><span>! On Sunday\, </span><span>October 30</span><span><sup>th</sup></span><span> following the performance c</span><span>elebrate with the cast and crew and enjoy wonderful delights and </span><span>treats!</span><span> </span><span>Tickets are $2</span><span>0</span><span> for general\, $</span><span>17</span><span> for Seniors and $</span><span>10</span><span> for youth (17 and under).</span></span></p><p><span>For more information\, visit Gloriana.org or call 707-964-SHOW.</span></p>
LOCATION:Eagles Hall Theatre Fort Bragg
UID:e.2883.1023
SEQUENCE:3
DTSTAMP:20260424T175820Z
URL:http://mendocinocoast.smartcms.site/events/details/gloriana-musical-theatre-presents-cinderella-09-19-2016-1023
END:VEVENT

END:VCALENDAR
