BEGIN:VCALENDAR
VERSION:2.0
PRODID:-//ChamberMaster//Event Calendar 2.0//EN
METHOD:PUBLISH
X-PUBLISHED-TTL:P3D
REFRESH-INTERVAL:P3D
CALSCALE:GREGORIAN
BEGIN:VEVENT
DTSTART:20160920T010000Z
DTEND:20160920T020000Z
X-MICROSOFT-CDO-ALLDAYEVENT:FALSE
SUMMARY:Gloriana Caroler Tryouts!
DESCRIPTION:We are happy to announce the return of TheÂ Gloriana Carolers! The first meeting will be held September 21st 6:00 at Mendocino Presbyterian Church. Ongoing rehearsals will be held on Wednesdays at the same time and place. Singing engagements will begin in December and run until Christmas.\n\nGloriana Carolers volunteer their holiday cheer\, dressed in Old Fashioned Victorian Costumes\, and are hired by local businesses and organizations to sing carols during their parties\, events and festivities. Proceeds go towards theÂ GlorianaScholarship Program. Seeking: Singers who love to Sing Holiday Carols and have time during the holiday season to spread the cheer!\n\nTo sign up please go to http://www.gloriana.org/carolers or call Janice Littrell at 925-200-3220
X-ALT-DESC;FMTTYPE=text/html:<p><span>We are happy to announce the return of TheÂ <span>Gloriana</span> <span>Carolers</span>! The first </span><span>meeting will be held </span><span>September 21st 6:00</span><span> at Mendocino Presbyterian Church. </span><span>Ongoing rehearsals will be held on Wednesdays at the same time and place. </span><span>Singing engagements will begin in December and run until Christmas.</span><br /><br /><span><span>Gloriana</span> <span>Carolers</span> volunteer their holiday cheer\, dressed in Old Fashioned </span><span>Victorian Costumes\, and are hired by local businesses and organizations to </span><span>sing carols during their parties\, events and festivities. Proceeds go </span><span>towards theÂ <span>Gloriana</span>Scholarship Program. Seeking: Singers who love to </span><span>Sing Holiday Carols and have time during the holiday season to spread the </span><span>cheer!</span><br /><br /><span>To sign up please go to </span><a href="http://www.gloriana.org/carolers" target="_blank">http://www.<span>gloriana</span>.org/carolers</a><span> or call Janice </span><span>Littrell at </span><a target="_blank">925-200-3220</a></p>
LOCATION:Mendocino Presbyterian Church Fort Bragg
UID:e.2883.1021
SEQUENCE:3
DTSTAMP:20260424T174727Z
URL:http://mendocinocoast.smartcms.site/events/details/gloriana-caroler-tryouts-09-19-2016-1021
END:VEVENT

END:VCALENDAR
