BEGIN:VCALENDAR
VERSION:2.0
PRODID:-//ChamberMaster//Event Calendar 2.0//EN
METHOD:PUBLISH
X-PUBLISHED-TTL:P3D
REFRESH-INTERVAL:P3D
CALSCALE:GREGORIAN
BEGIN:VEVENT
DTSTART:20190709T180000Z
DTEND:20190710T000000Z
X-MICROSOFT-CDO-ALLDAYEVENT:FALSE
SUMMARY:Gardens and Garden Walls - Paintings and Collages by Pamela Hahn
DESCRIPTION:The encaustic paintings in Gardens and Garden Walls celebrate the changing moods of a garden under diverse circumstances. For example\, some titles are: Evening\, After the Rain and Fallow. These abstract responses are often captured fleetingly out of the corner of the artist's eye. Hahn is inspired by nature and the process of caring for a garden which she feels is similar to creating a painting. Both require tenderness and courage. Some elements survive\, some not\, things are mysteriously moved around and sometimes dug up for a fresh start. \n\nHahn is also enchanted with garden walls\, particularly ancient ones. They are witnesses to history and hold secrets. In her wall pieces\, Hahn evokes a sense of mystery through layers of collage and mixed media. \n\nThere is a First Friday Reception July 5th\, 5-8pm
X-ALT-DESC;FMTTYPE=text/html:<p style="margin-left:0in\; margin-right:0in"><span style="font-family:helvetica">The encaustic paintings in Gardens and Garden Walls celebrate the changing moods of a garden under diverse circumstances. For example\, some titles are: Evening\, After the Rain and Fallow. These abstract responses are often captured fleetingly out of the corner of the artist&rsquo\;s eye. Hahn is inspired by nature and the process of caring for a garden which she feels is similar to creating a painting. Both require tenderness and courage. Some elements survive\, some not\, things are mysteriously moved around and sometimes dug up for a fresh start.&nbsp\;</span></p>\n\n<p style="margin-left:0in\; margin-right:0in"><span style="font-family:helvetica">Hahn is also enchanted with garden walls\, particularly ancient ones. They are witnesses to history and hold secrets. In her wall pieces\, Hahn evokes a sense of mystery through layers of collage and mixed media.&nbsp\;</span></p>\n\n<p style="margin-left:0in\; margin-right:0in"><span style="font-family:helvetica">There is a First Friday Reception July 5<sup>th</sup>\, 5-8pm</span></p>\n
LOCATION:Partners Gallery 335 N. Franklin St Fort Bragg\, CA 95437
UID:e.2883.11737
SEQUENCE:3
DTSTAMP:20260422T081313Z
URL:http://mendocinocoast.smartcms.site/events/details/gardens-and-garden-walls-paintings-and-collages-by-pamela-hahn-07-09-2019-11737
END:VEVENT

END:VCALENDAR
